BEGIN:VCALENDAR
VERSION:2.0
PRODID:-//ChamberMaster//Event Calendar 2.0//EN
METHOD:PUBLISH
X-PUBLISHED-TTL:P3D
REFRESH-INTERVAL:P3D
CALSCALE:GREGORIAN
BEGIN:VEVENT
DTSTART:20240717T220000Z
DTEND:20240718T000000Z
X-MICROSOFT-CDO-ALLDAYEVENT:FALSE
SUMMARY:McKenzie Regional Workforce Center VIP Open House
DESCRIPTION:Help celebrate the 1 year anniversary!\n\nStop by and tour the McKenzie Regional Workforce Center\, while enjoying complimentary drinks and hors d'oeuvres.\n\n \n\nSpecial Guests remarks at 5:30pm by:\n\n\n	\n	Jim Tobin\, CEO of National Association of Home Builders (NAHB) \n	\n	\n	Ed Brady\, CEO of Home Builders Institute (HBI)\n	\n	\n	State Representative Mark Pocan\n	\n\n\nYou won't want to miss seeing the:\n\n\n	\n	Skilled Trades Center powered by Drexel Building Supply\n	\n	\n	Kitchen by Gerhard's\n	\n	\n	Cafe by Cambria\n	\n\n\nPrivate invite for MABA Members & Guests!
X-ALT-DESC;FMTTYPE=text/html:<h1><span style="font-family:verdana\;">Help celebrate the 1 year anniversary!</span></h1>\n\n<h3><span style="font-family:verdana\;"><span style="font-size:16px\;"><span style="caret-color: rgb(0\, 0\, 0)\; color: rgb(0\, 0\, 0)\; -webkit-text-size-adjust: auto\;">Stop by and tour the McKenzie Regional Workforce Center\, while enjoying complimentary drinks and hors d&#39\;oeuvres.</span></span></span><br />\n&nbsp\;</h3>\n\n<h3><span style="font-family:verdana\;"><span style="font-size:16px\;"><span style="color:#0000CD\;"><span style="caret-color: rgb(0\, 0\, 0)\; -webkit-text-size-adjust: auto\;"><em>Special Guests remarks at 5:30pm by</em></span></span><span style="caret-color: rgb(0\, 0\, 0)\; color: rgb(0\, 0\, 0)\; -webkit-text-size-adjust: auto\;">:</span></span></span></h3>\n\n<ul>\n	<li>\n	<h3><span style="font-family:verdana\;"><span style="font-size:16px\;"><span style="caret-color: rgb(0\, 0\, 0)\; color: rgb(0\, 0\, 0)\; -webkit-text-size-adjust: auto\;">Jim Tobin\, CEO of National Association of Home Builders (NAHB)&#8203\;</span></span></span></h3>\n	</li>\n	<li>\n	<h3><span style="font-family: verdana\;"><span style="font-size: 16px\;"><span style="caret-color: rgb(0\, 0\, 0)\; color: rgb(0\, 0\, 0)\; -webkit-text-size-adjust: auto\;">Ed Brady\, CEO of Home Builders&nbsp\;Institute (HBI)</span></span></span></h3>\n	</li>\n	<li>\n	<h3><span style="font-family: verdana\;"><span style="font-size: 16px\;"><span style="caret-color: rgb(0\, 0\, 0)\; color: rgb(0\, 0\, 0)\; -webkit-text-size-adjust: auto\;">State Representative Mark Pocan</span></span></span></h3>\n	</li>\n</ul>\n\n<h3><span style="font-family:verdana\;"><font color="#000000" size="3"><span style="caret-color: rgb(0\, 0\, 0)\; -webkit-text-size-adjust: auto\;">You won&rsquo\;t want to miss seeing the:</span></font></span></h3>\n\n<ul>\n	<li>\n	<h3><span style="font-family:verdana\;"><span style="font-size:16px\;">Skilled Trades Center powered by <strong><a href="http://www.drexelteam.com/"><span style="color:#0000CD\;">Drexel Building Supply</span></a></strong></span></span></h3>\n	</li>\n	<li>\n	<h3><span style="font-family:verdana\;"><span style="font-size:16px\;">Kitchen by <strong><a href="http://www.gerhardsstore.com/"><span style="color:#0000CD\;">Gerhard&rsquo\;s</span></a></strong></span></span></h3>\n	</li>\n	<li>\n	<h3><span style="font-family:verdana\;"><span style="font-size:16px\;">Cafe by <strong><a href="http://www.cambriausa.com/"><span style="color:#0000CD\;">Cambria</span></a></strong></span></span></h3>\n	</li>\n</ul>\n\n<h3><span style="font-family:verdana\;"><span style="font-size:16px\;"><span style="caret-color: rgb(0\, 0\, 0)\; color: rgb(0\, 0\, 0)\; -webkit-text-size-adjust: auto\;">Private invite for MABA Members &amp\; Guests!</span></span></span></h3>\n
LOCATION:5215 Verona Road Fitchburg
UID:e.9187.592
SEQUENCE:3
DTSTAMP:20260425T174244Z
URL:http://maba.memberzone.com/events/details/mckenzie-regional-workforce-center-vip-open-house-592
END:VEVENT

END:VCALENDAR
