BEGIN:VCALENDAR
VERSION:2.0
PRODID:-//ChamberMaster//Event Calendar 2.0//EN
METHOD:PUBLISH
X-PUBLISHED-TTL:P3D
REFRESH-INTERVAL:P3D
CALSCALE:GREGORIAN
BEGIN:VEVENT
DTSTART:20250129T233000Z
DTEND:20250130T020000Z
X-MICROSOFT-CDO-ALLDAYEVENT:FALSE
SUMMARY:2025 Quarterly Membership Meeting - January
DESCRIPTION:Kick Off 2025 at MABA's First Quarterly Membership Meeting!\n\nStart the year strong by joining us at The Lone Girl Brewing Company on Wednesday\, January 29\, 2025\, from 5:30 8:00 PM\, for our first Quarterly Membership Meeting of the year!\n\nEnjoy great food\, drinks\, and networking while gaining valuable insights to help your business thrive in 2025. \n\nArrive early for an optional educational class from 4 5 PM to dive deeper into practical topics and start your evening off with fresh knowledge.\n\nDon't miss this opportunity to connect\, learn\, and set the tone for a successful 2025!
X-ALT-DESC;FMTTYPE=text/html:<p><strong>Kick Off 2025 at MABA&#39\;s First Quarterly Membership Meeting!</strong></p>\n\n<p>Start the year strong by joining us at The Lone Girl Brewing Company on&nbsp\;<strong>Wednesday\, January 29\, 2025</strong>\, from&nbsp\;<strong>5:30&ndash\;8:00 PM</strong>\, for our first Quarterly Membership Meeting of the year!</p>\n\n<p>Enjoy great food\, drinks\, and networking while gaining valuable insights to help your business thrive in 2025.&nbsp\;</p>\n\n<p><strong>Arrive early</strong>&nbsp\;for an optional educational class from&nbsp\;<strong>4&ndash\;5 PM</strong>&nbsp\;to dive deeper into practical topics and start your evening off with fresh knowledge.</p>\n\n<p>Don&rsquo\;t miss this opportunity to connect\, learn\, and set the tone for a successful 2025!</p>\n
LOCATION:The Lone Girl Brewing Company
UID:e.9187.611
SEQUENCE:3
DTSTAMP:20260425T004323Z
URL:http://maba.memberzone.com/events/details/maba-quarterly-membership-january-meeting-1-29-25-611
END:VEVENT

END:VCALENDAR
