BEGIN:VCALENDAR
VERSION:2.0
PRODID:-//ChamberMaster//Event Calendar 2.0//EN
METHOD:PUBLISH
X-PUBLISHED-TTL:P3D
REFRESH-INTERVAL:P3D
CALSCALE:GREGORIAN
BEGIN:VEVENT
DTSTART:20260409T133000Z
DTEND:20260409T143000Z
X-MICROSOFT-CDO-ALLDAYEVENT:FALSE
SUMMARY:2026 Young Professionals Coffee & Connections
DESCRIPTION:Join the Young Professionals for a casual morning coffee meetup. It's a great opportunity to connect with peers\, grow your network\, and start the day with great conversation.\n\nBring a smile\, your business card\, and a friend. Join a small table\, or mingle around the room. \n\n\n\nRegister here or email Faith at fbarrett@maba.org to sign up!
X-ALT-DESC;FMTTYPE=text/html:<p><span style="font-family:verdana\;"><span style="font-size:18px\;"><span class="a_GcMg font-feature-liga-off font-feature-clig-off font-feature-calt-off text-decoration-none text-strikethrough-none" style="color: rgba(0\,0\,0\,var(--O42jJQ\,1))\; caret-color: rgb(0\, 0\, 0)\; --Ys-XuQ: none\; font-kerning: normal\;">Join the Young Professionals for a casual morning coffee meetup. It&rsquo\;s a great opportunity to connect with peers\, grow your network\, and start the day with great conversation.</span></span></span></p>\n\n<p><span style="font-family:verdana\;"><span style="font-size:18px\;"><span class="a_GcMg font-feature-liga-off font-feature-clig-off font-feature-calt-off text-decoration-none text-strikethrough-none" style="color: rgba(0\,0\,0\,var(--O42jJQ\,1))\; caret-color: rgb(0\, 0\, 0)\; --Ys-XuQ: none\; font-kerning: normal\;">Bring a smile\, your business card\, and a friend. Join a small table\, or mingle around the room.&nbsp\;<br />\n<br />\nRegister here or email Faith at </span><strong><span class="a_GcMg font-feature-liga-off font-feature-clig-off font-feature-calt-off text-decoration-none text-strikethrough-none" style="caret-color: rgb(0\, 0\, 0)\; --Ys-XuQ: none\; font-kerning: normal\;"><span style="color:#0000FF\;">fbarrett@maba.org</span></span></strong><span class="a_GcMg font-feature-liga-off font-feature-clig-off font-feature-calt-off text-decoration-none text-strikethrough-none" style="color: rgba(0\,0\,0\,var(--O42jJQ\,1))\; caret-color: rgb(0\, 0\, 0)\; --Ys-XuQ: none\; font-kerning: normal\;"> to sign up!&nbsp\;</span></span></span></p>\n<scribe-shadow data-crx="okfkdaglfjjjfefdcppliegebpoegaii" id="crxjs-ext" style="position: fixed\; width: 0px\; height: 0px\; top: 0px\; left: 0px\; z-index: 2147483647\; overflow: visible\; visibility: visible\;"></scribe-shadow>
LOCATION:Grace Coffee Co 150 West End Cir\, Verona
UID:e.9187.778
SEQUENCE:3
DTSTAMP:20260423T232759Z
URL:http://maba.memberzone.com/events/details/2026-young-professionals-coffee-connections-778
END:VEVENT

END:VCALENDAR
