BEGIN:VCALENDAR
VERSION:2.0
PRODID:-//ChamberMaster//Event Calendar 2.0//EN
METHOD:PUBLISH
X-PUBLISHED-TTL:P3D
REFRESH-INTERVAL:P3D
CALSCALE:GREGORIAN
BEGIN:VEVENT
DTSTART:20260128T213000Z
DTEND:20260129T020000Z
X-MICROSOFT-CDO-ALLDAYEVENT:FALSE
SUMMARY:2026 Quarterly Membership Meeting & Educational Series: OSHA Updates
DESCRIPTION:KICK OFF 2026 WITH MABA'S FIRST QUARTERLY MEMBERSHIP MEETING!\n\nJanuary 28\, 2026   3:30 8:00 p.m.\n\nDahmen's at Hawk's Landing\n\nStart the year strong by joining us for an afternoon of OSHA updates\, networking\, and important association news.\n\n3:30 to 5:00 p.m.\n\nOSHA Updates with Proven Solutions Corporation\n\nJacob Krigbaum and Mark Hempe return for the second year in a row to share the latest builder related OSHA\, DOT\, MSHA and other updates. Gain practical guidance to help your business stay compliant\, prepared\, and ready for regulatory changes in 2026.\n\n5:00 to 8:00 p.m.\n\nQuarterly Membership Meeting\n\n\n\nAGENDA\n\n\n	President's Welcome by Ken Nelson\n	Market Update by Chad Lawler\n	McKenzie Regional Workforce Center Update by Alan Branch\, Boys & Girls Clubs of Dane County\n	Association Leadership Panel\n	\n		Board of Directors\n		Strategic Planning\n		Financials\n		BuildX & Area 10 Leadership Conferences\n	\n	\n	Committee Leadership Panel\n	\n		Skilled Trades Development\n		Events & Membership \n		Government Affairs\n		Parade of Homes\n		Young Professionals\n		Latino Group\n	\n	\n\n\nEnjoy great food\, drinks\, and time to connect with fellow members while hearing key association updates.\n\nThis meeting is a great opportunity to build momentum\, strengthen relationships\, and set the tone for a successful new year.\n\nWe look forward to seeing you there!
X-ALT-DESC;FMTTYPE=text/html:<p><strong>KICK OFF 2026 WITH MABA&rsquo\;S FIRST QUARTERLY MEMBERSHIP MEETING!</strong></p>\n\n<p><strong>January 28\, 2026 &bull\; 3:30&ndash\;8:00 p.m.</strong><br />\n<strong>Dahmen&rsquo\;s at Hawk&rsquo\;s Landing</strong></p>\n\n<p>Start the year strong by joining us for an afternoon of OSHA updates\, networking\, and important association news.</p>\n\n<p><strong>3:30 to 5:00 p.m.</strong><br />\n<strong>OSHA Updates with Proven Solutions Corporation</strong><br />\nJacob Krigbaum and Mark Hempe return for the second year in a row to share the latest builder related<strong> OSHA\, DOT\, MSHA and other updates</strong>. Gain practical guidance to help your business stay compliant\, prepared\, and ready for regulatory changes in 2026.</p>\n\n<p><strong>5:00 to 8:00 p.m.</strong><br />\n<strong>Quarterly Membership Meeting</strong><br />\n<br />\n<u><strong>AGENDA</strong></u></p>\n\n<ol>\n	<li>President&#39\;s Welcome by Ken Nelson</li>\n	<li>Market Update by Chad Lawler</li>\n	<li>McKenzie Regional Workforce Center Update by Alan Branch\, Boys &amp\; Girls Clubs of Dane County</li>\n	<li>Association Leadership Panel\n	<ol>\n		<li>Board of Directors</li>\n		<li>Strategic Planning</li>\n		<li>Financials</li>\n		<li>BuildX &amp\; Area 10 Leadership Conferences</li>\n	</ol>\n	</li>\n	<li>Committee Leadership Panel\n	<ol>\n		<li>Skilled Trades Development</li>\n		<li>Events &amp\; Membership&nbsp\;</li>\n		<li>Government Affairs</li>\n		<li>Parade of Homes</li>\n		<li>Young Professionals</li>\n		<li>Latino Group</li>\n	</ol>\n	</li>\n</ol>\n\n<p>Enjoy great food\, drinks\, and time to connect with fellow members while hearing&nbsp\;key association updates.</p>\n\n<p>This meeting is a great opportunity to build momentum\, strengthen relationships\, and set the tone for a successful new year.</p>\n\n<p><strong>We look forward to seeing you there!</strong></p>\n
LOCATION:Dahmen's at Hawks Landing 88 Hawks Landing Circle\, Verona
UID:e.9187.662
SEQUENCE:3
DTSTAMP:20260424T071020Z
URL:http://maba.memberzone.com/events/details/2026-quarterly-membership-meeting-educational-series-osha-updates-662
END:VEVENT

END:VCALENDAR
