BEGIN:VCALENDAR
VERSION:2.0
PRODID:-//ChamberMaster//Event Calendar 2.0//EN
METHOD:PUBLISH
X-PUBLISHED-TTL:P3D
REFRESH-INTERVAL:P3D
CALSCALE:GREGORIAN
BEGIN:VEVENT
DTSTART:20260727T153000Z
DTEND:20260727T230000Z
X-MICROSOFT-CDO-ALLDAYEVENT:FALSE
SUMMARY:2026 MABA Foundation Golf Outing Presented by Pella Windows & Doors of Wisconsin
DESCRIPTION:Join us at the 2026 MABA Foundation Golf Outing ("Ken's Fantastic Fore")\, presented by Pella Windows & Doors of Wisconsin\, held at Blackhawk Country Club on July 27\, 2026.\n \n\n\n	\n	10:30 AM Registration & Bloody Mary Bar Opens  \n	\n	\n	12:00 PM Shotgun Start        \n	\n	\n	5:00 PM After-Party starts  \n\n	 \n	\n\n\nRegistration includes 18 holes of golf with cart\, box lunch\, Bloody Mary\, drink tickets\, and after-party\n\n\n\nDress Code: Polo (collared) Shirt\, No Denim\n\n\n\nScorecard - Scoring will be done on the "Golf Genius" app. If you don't already have this app\, please download. A paper scorecard will also be provided. \n\n \n\nBRING CASH! The Beverage Carts accept cash only. There is an ATM on site.\n\n\n\nSPONSORSHIPS STILL AVAILABLE:  Registration | Golf Hole \n\n Contact Lisa Kratz to claim your sponsorship at lkratz@maba.org.\n\n\n\nThe MABA Foundation is a charitable organization who's mission is to provide charitable relief to those in need by supporting community charitable organizations that -- promote the building industry as an excellent career choice\, encourage ongoing training for professionals in the industry as well as the home buying public\, and support research that furthers the advancement of the industry.
X-ALT-DESC;FMTTYPE=text/html:<h1><span style="font-size:18px\;"><span style="font-family:arial\;">Join us at the 2026 MABA Foundation Golf Outing (&quot\;Ken&rsquo\;s Fantastic Fore&quot\;)\, presented by <a href="http://pellawi.com"><font color="#0000cd">Pella Windows &amp\; Doors of Wisconsin</font></a>\,&nbsp\;held at Blackhawk Country Club on July 27\, 2026.</span></span></h1>\n&nbsp\;\n\n<ul>\n	<li>\n	<p><span style="font-size:16px\;"><span style="font-family:arial\;">10:30 AM Registration &amp\; Bloody Mary Bar Opens &#127865\;</span></span></p>\n	</li>\n	<li>\n	<p><span style="font-size:16px\;"><span style="font-family:arial\;">12:00 PM Shotgun Start &#127948\;&#65039\;&#127948\;&#65039\;&zwj\;&#9792\;&#65039\;</span></span></p>\n	</li>\n	<li>\n	<p><span style="font-size:16px\;"><span style="font-family:arial\;">5:00 PM After-Party starts &#127866\;</span></span><br />\n	&nbsp\;</p>\n	</li>\n</ul>\n\n<p><span style="font-size:16px\;"><font face="arial">Registration includes 18 holes of golf with cart\, box&nbsp\;lunch\, Bloody Mary\, drink tickets\, and after-party</font></span><br />\n<br />\nDress Code: Polo (collared) Shirt\, No Denim<br />\n<br />\nScorecard - Scoring will be done on the &quot\;Golf Genius&quot\; app. If you don&#39\;t already have this app\, please download. A paper scorecard will also be provided.&nbsp\;<br />\n&nbsp\;</p>\n\n<p><span style="font-size:16px\;"><span style="color:#008000\;"><strong>BRING CASH! The Beverage Carts&nbsp\;accept cash only. There is an ATM on site.</strong></span><br />\n<br />\n<strong style="font-family: arial\; font-size: 14px\;">SPONSORSHIPS STILL AVAILABLE:&nbsp\;</strong><font face="arial">&nbsp\;Registration | Golf Hole&nbsp\;</font><br />\n<font face="arial">&#8203\;Contact Lisa Kratz&nbsp\;to claim your sponsorship at <a href="mailto:lkratz@maba.org?subject=MABA%20Foundation%20Golf%20Outing%20Sponsorship">lkratz@maba.org</a>.</font></span><br />\n<br />\n<span style="font-size:14px\;"><span style="font-family:arial\;"><span style="font-size:12px\;"><em>The MABA Foundation is a charitable organization who&#39\;s mission is to provide charitable relief to those in need by supporting community charitable organizations that -- promote the building industry as an excellent career choice\, encourage ongoing training for professionals in the industry as well as the home buying public\, and support research that furthers the advancement of the industry.</em></span></span></span><br />\n&nbsp\;</p>\n<scribe-shadow data-crx="okfkdaglfjjjfefdcppliegebpoegaii" id="crxjs-ext" style="position: fixed\; width: 0px\; height: 0px\; top: 0px\; left: 0px\; z-index: 2147483647\; overflow: visible\; visibility: visible\;"></scribe-shadow>
LOCATION:Blackhawk Country Club 3606 Blackhawk Drive\, Madison
UID:e.9187.766
SEQUENCE:3
DTSTAMP:20260424T021818Z
URL:http://maba.memberzone.com/events/details/2026-maba-foundation-golf-outing-presented-by-pella-windows-doors-of-wisconsin-766
END:VEVENT

END:VCALENDAR
