BEGIN:VCALENDAR
VERSION:2.0
PRODID:-//ChamberMaster//Event Calendar 2.0//EN
METHOD:PUBLISH
X-PUBLISHED-TTL:P3D
REFRESH-INTERVAL:P3D
CALSCALE:GREGORIAN
BEGIN:VEVENT
DTSTART;VALUE=DATE:20260124
DTEND;VALUE=DATE:20260126
TRANSP:TRANSPARENT
X-MICROSOFT-CDO-ALLDAYEVENT:TRUE
SUMMARY:2026 Build & Remodel Expo
DESCRIPTION:The Madison Area Builders Association and NARI of Madison are excited to bring you the Madison areas third annual Build & Remodel Expo\, sponsored by James Hardie. Whether it be new construction\, a remodel\, or simply an upgrade\, find hundreds of seasoned professionals all in one place\, ready to make your home plans a reality. \n\n\n\nVisit www.buildremodelexpo.com for information about Exhibitors\, Seminars\, Tickets\, and more!
X-ALT-DESC;FMTTYPE=text/html:<p class="font_8 wixui-rich-text__text" style="caret-color: rgb(0\, 0\, 0)\; color: rgb(var(--color_15))\; background-image: none\; background-position: 0%\; background-size: auto\; background-repeat: repeat\; background-attachment: scroll\; background-origin: padding-box\; background-clip: border-box\; border: 0px\; outline: 0px\; padding: 0px\; vertical-align: baseline\; pointer-events: auto\; font-size: 21px\; line-height: 1.5em\; margin-block: 0px\; margin: 0px\; -webkit-text-size-adjust: 100%\;"><span style="font-size:16px\;"><span style="font-family:verdana\;"><span class="wixui-rich-text__text" style="background-image: none\; background-position: 0%\; background-size: auto\; background-repeat: repeat\; background-attachment: scroll\; background-origin: padding-box\; background-clip: border-box\; border: 0px\; margin: 0px\; outline: 0px\; padding: 0px\; vertical-align: top\;"><span class="wixui-rich-text__text" style="background-image: none\; background-position: 0%\; background-size: auto\; background-repeat: repeat\; background-attachment: scroll\; background-origin: padding-box\; background-clip: border-box\; border: 0px\; margin: 0px\; outline: 0px\; padding: 0px\; vertical-align: baseline\;"><span class="wixui-rich-text__text" style="background-image: none\; background-position: 0%\; background-size: auto\; background-repeat: repeat\; background-attachment: scroll\; background-origin: padding-box\; background-clip: border-box\; border: 0px\; margin: 0px\; outline: 0px\; padding: 0px\; vertical-align: baseline\;"><span class="wixui-rich-text__text" style="background-image: none\; background-position: 0%\; background-size: auto\; background-repeat: repeat\; background-attachment: scroll\; background-origin: padding-box\; background-clip: border-box\; border: 0px\; margin: 0px\; outline: 0px\; padding: 0px\; vertical-align: baseline\;">The Madison Area Builders Association and NARI of Madison are excited to bring you the Madison areas third annual Build &amp\; Remodel Expo\, sponsored by James Hardie.&nbsp\;</span></span></span></span></span></span><span style="font-size:16px\;"><span style="font-family:verdana\;"><span class="wixui-rich-text__text" style="background-image: none\; background-position: 0%\; background-size: auto\; background-repeat: repeat\; background-attachment: scroll\; background-origin: padding-box\; background-clip: border-box\; border: 0px\; margin: 0px\; outline: 0px\; padding: 0px\; vertical-align: top\;"><span class="wixui-rich-text__text" style="background-image: none\; background-position: 0%\; background-size: auto\; background-repeat: repeat\; background-attachment: scroll\; background-origin: padding-box\; background-clip: border-box\; border: 0px\; margin: 0px\; outline: 0px\; padding: 0px\; vertical-align: baseline\;"><span class="wixui-rich-text__text" style="background-image: none\; background-position: 0%\; background-size: auto\; background-repeat: repeat\; background-attachment: scroll\; background-origin: padding-box\; background-clip: border-box\; border: 0px\; margin: 0px\; outline: 0px\; padding: 0px\; vertical-align: baseline\;"><span class="wixui-rich-text__text" style="background-image: none\; background-position: 0%\; background-size: auto\; background-repeat: repeat\; background-attachment: scroll\; background-origin: padding-box\; background-clip: border-box\; border: 0px\; margin: 0px\; outline: 0px\; padding: 0px\; vertical-align: baseline\;">Whether it be new construction\, a remodel\, or simply an upgrade\, find hundreds of seasoned professionals all in one place\, ready to make your home plans a reality.&nbsp\;</span></span></span></span></span></span></p>\n\n<p class="font_8 wixui-rich-text__text" style="caret-color: rgb(0\, 0\, 0)\; color: rgb(var(--color_15))\; background-image: none\; background-position: 0%\; background-size: auto\; background-repeat: repeat\; background-attachment: scroll\; background-origin: padding-box\; background-clip: border-box\; border: 0px\; outline: 0px\; padding: 0px\; vertical-align: baseline\; pointer-events: auto\; font-size: 21px\; line-height: 1.5em\; margin-block: 0px\; margin: 0px\; -webkit-text-size-adjust: 100%\;"><br />\n<span style="font-size:16px\;"><span style="font-family:verdana\;"><span class="wixui-rich-text__text" style="background-image: none\; background-position: 0%\; background-size: auto\; background-repeat: repeat\; background-attachment: scroll\; background-origin: padding-box\; background-clip: border-box\; border: 0px\; margin: 0px\; outline: 0px\; padding: 0px\; vertical-align: top\;"><span class="wixui-rich-text__text" style="background-image: none\; background-position: 0%\; background-size: auto\; background-repeat: repeat\; background-attachment: scroll\; background-origin: padding-box\; background-clip: border-box\; border: 0px\; margin: 0px\; outline: 0px\; padding: 0px\; vertical-align: baseline\;"><span class="wixui-rich-text__text" style="background-image: none\; background-position: 0%\; background-size: auto\; background-repeat: repeat\; background-attachment: scroll\; background-origin: padding-box\; background-clip: border-box\; border: 0px\; margin: 0px\; outline: 0px\; padding: 0px\; vertical-align: baseline\;"><span class="wixui-rich-text__text" style="background-image: none\; background-position: 0%\; background-size: auto\; background-repeat: repeat\; background-attachment: scroll\; background-origin: padding-box\; background-clip: border-box\; border: 0px\; margin: 0px\; outline: 0px\; padding: 0px\; vertical-align: baseline\;">Visit <a href="http://Www.buildremodelexpo.com">www.buildremodelexpo.com</a> for information about Exhibitors\, Seminars\, Tickets\, and more!</span></span></span></span></span></span></p>\n
LOCATION:Madison Marriott West
UID:e.9187.632
SEQUENCE:3
DTSTAMP:20260424T042602Z
URL:http://maba.memberzone.com/events/details/2026-build-remodel-expo-632
END:VEVENT

END:VCALENDAR
