BEGIN:VCALENDAR
VERSION:2.0
PRODID:-//ChamberMaster//Event Calendar 2.0//EN
METHOD:PUBLISH
X-PUBLISHED-TTL:P3D
REFRESH-INTERVAL:P3D
CALSCALE:GREGORIAN
BEGIN:VEVENT
DTSTART;VALUE=DATE:20260423
DTEND;VALUE=DATE:20260425
TRANSP:TRANSPARENT
X-MICROSOFT-CDO-ALLDAYEVENT:TRUE
SUMMARY:2026 Area 10 Leadership Conference
DESCRIPTION:REGISTRATION IS CLOSED\n\n\n\nThe Madison Area Builders Association (MABA) and National Association of Home Builders (NAHB) are hosting the Area 10 Leadership Conference\, sponsored by LP Building Solutions\, in Madison\, WI on April 23-24\, 2026. \n\n\n\nThis exclusive event for Home Builders Association (HBA) Leaders and Executive Officers is an opportunity to develop your leadership skills and meet other housing industry leaders from your area. Area 10 covers the states of Iowa\, Minnesota\, North Dakota\, South Dakota\, and Wisconsin. \n\n\n\nYou'll learn impactful leadership strategies from industry experts during a series of education sessions\, panel discussions\, and networking events. \n\n\n\nSchedule/Agenda\n\nApril 23\, 2026 (Day One)\n\n	11:30am - 12:00pm: Registration\n	12:00pm - 12:15pm: NAHB Welcome with Bill Owens\, 2026 NAHB Chairman\n	12:15pm - 12:45pm: Networking Lunch\n	12:45pm - 1:45pm: Opening Keynote Luncheon with Heather DeSiena "People and Profit: Building Businesses That Last"\n	2:00pm -3:00pm: Leadership Session by Steve Bench "Attracting Tomorrow's Talent with Today's Leaders"\n	3:15pm - 4:15pm: Breakout Session (two options)\n	\n		TRACK 1: "Strategic Communication: Lessons Learned From a News Anchor Turned Negotiator" (Heather DeSiena)\n		TRACK 2: "Crafting Mutually Beneficial Volunteer Opportunities" (Donna Franza\, NAHB)\n	\n	\n	4:25pm - 4:45 pm: NAHB Update by Bill Owens\, 2026 NAHB Chairman\n	5:15pm: Hop on the bus! \n	5:30pm - 7:30pm: Networking Reception & Tour at the McKenzie Regional Workforce Center\, sponsored by Drexel Building Supply\n\nApril 24\, 2026 (Day Two)\n\n\n	7:30am - 8:00am: Registration & Breakfast Buffet\n	8:00am - 9:00am: Leadership Breakfast | "Providing Value in Membership"\n	9:15am - 10:00am: Breakout Session (two options)\n	\n		TRACK 1: "Indentifying & Engaging the Next Generation of Leaders" (Rachel Branson\, NAHB)\n		TRACK 2: "Lightning Decision Jam" Roundtable Discussions\n	\n	\n	10:15am - 11:15am: "Build on Benefits | Structuring Success with NAHB Resources" (Caroline Fabacher)\n	11:30am - 12:30pm: "Leadership Growth Hacks" (David Belman) Attendees will receive a complimentary copy of David's book\, courtesy of the MBA. David will be available to sign books following the session.\n	12:30pm: Closing Comments\n	Box lunch available\n\nCLICK HERE TO DOWNLOAD THE DETAILED AGENDA \n\n\n\nRegistration includes:\n\n\n	Day One: Lunch\, Networking Reception with beverages and heavy appetizers\n	Day Two: Breakfast\, Box Lunch (to-go\, or to stay)\n\n\n\nParking & Access to Monona Terrace - VERY IMPORTANT!!!\n\nThere is construction along John Nolen Drive and the John Nolen Drive entrance to the Monona Terrace is not open. Click here for driving directions\n\n\n\nHere are a few options for parking....\n\n\n	Monona Terrace parking ramp - The only entrance to this ramp is from Wilson Street. Click here for a map \n	Wilson Street Garage - 20 E. Wilson Street\, Madison - 1 block walk to Monona Terrace (this will likely be the least expensive option)\n	Hilton Monona Terrace - if you're staying overnight at the Hilton they have an underground parking ramp and a skywalk to the Monona Terrace\n\n\n\nHotel Accomodations\n\nA block of rooms is available at the Hilton Madison Monona Terrace for the nights of April 22 & 23\, 2026 with a nightly rate of $169. Reservation cut-off date is March 23\, 2026. \n\n \nBooking Link: https://www.hilton.com/en/book/reservation/deeplink/?ctyhocn=MSNMHHF&groupCode=935&arrivaldate=2026-04-22&departuredate=2026-04-24&cid=OM\,WW\,HILTONLINK\,EN\,DirectLink&fromId=HILTONLINKDIRECT\n \n\nGuests can also call Hilton reservations at 800-445-8667 or call the hotel directly at 608-255-5100 and reference the group code: 935.\n\n\nSponsorship Opportunties:\n\nIs this your first time attending an NAHB Leadership Training Conference? NAHB has a limited number of scholarships/grants available. The link to apply is below. Please be sure to review all the requirements. Area 10 Leadership Conference Fees must be paid up front\, and if you are awarded a scholarship your payment will be refunded. \n\nScholarship Application\n\n\n\nQuestions:\n\nPlease reach out to MABA Staff with questions! Lisa Kratz (lkratz@maba.org\, 608-444-6965) or Chad Lawler (clawler@maba.org\, 608-469-1542)
X-ALT-DESC;FMTTYPE=text/html:<span style="font-size:18px\;"><strong><span style="color:#B22222\;">REGISTRATION IS CLOSED</span></strong></span><br />\n<br />\nThe Madison Area Builders Association (MABA) and National Association of Home Builders (NAHB) are hosting the Area 10 Leadership Conference\, sponsored by<strong> <a href="https://lpcorp.com/">LP Building Solutions</a></strong>\, in Madison\, WI on April 23-24\, 2026.&nbsp\;<br />\n<br />\nThis exclusive event for Home Builders Association (HBA) Leaders and Executive Officers is an opportunity to develop your leadership skills and meet other housing industry leaders from your area. Area 10 covers the states of Iowa\, Minnesota\, North Dakota\, South Dakota\, and Wisconsin.&nbsp\;<br />\n<br />\nYou&#39\;ll learn impactful leadership strategies from industry experts during a series of education sessions\, panel discussions\, and networking events.&nbsp\;<br />\n<br />\n<span style="color:#a3b53a\;"><span style="font-size:16px\;"><strong>Schedule/Agenda</strong></span></span><br />\n<span style="font-size:14px\;"><strong>April 23\, 2026 (Day One)</strong></span>\n<ul>\n	<li>11:30am - 12:00pm: <strong>Registration</strong></li>\n	<li>12:00pm - 12:15pm: <strong>NAHB Welcome</strong> with Bill Owens\, 2026 NAHB Chairman</li>\n	<li>12:15pm - 12:45pm: <strong>Networking Lunch</strong></li>\n	<li>12:45pm - 1:45pm: <strong>Opening Keynote Luncheon</strong> with Heather DeSiena <em>&quot\;People and Profit: Building Businesses That Last&quot\;</em></li>\n	<li>2:00pm -3:00pm: <strong>Leadership Session&nbsp\;</strong>by Steve Bench <em>&quot\;Attracting Tomorrow&#39\;s Talent with Today&#39\;s Leaders&quot\;</em></li>\n	<li>3:15pm - 4:15pm:<strong>&nbsp\;Breakout&nbsp\;Session (two options)</strong>\n	<ul>\n		<li><em>TRACK 1: &quot\;Strategic Communication: Lessons Learned From a News Anchor Turned Negotiator&quot\;</em> (Heather DeSiena)</li>\n		<li><em>TRACK 2: &quot\;Crafting Mutually Beneficial Volunteer Opportunities&quot\;</em> (Donna Franza\, NAHB)</li>\n	</ul>\n	</li>\n	<li>4:25pm - 4:45 pm: <strong>NAHB Update </strong>by Bill Owens\, 2026 NAHB Chairman</li>\n	<li>5:15pm: <strong>Hop on the bus!&nbsp\;</strong></li>\n	<li>5:30pm - 7:30pm:&nbsp\;<strong>Networking Reception &amp\; Tour at the&nbsp\;McKenzie Regional Workforce Center</strong>\, sponsored by&nbsp\;<strong><a href="https://www.drexelteam.com/">Drexel Building Supply</a></strong></li>\n</ul>\n<span style="font-size:14px\;"><strong>April 24\, 2026 (Day Two)</strong></span>\n\n<ul>\n	<li>7:30am - 8:00am: <strong>Registration &amp\; Breakfast Buffet</strong></li>\n	<li>8:00am - 9:00am: <strong>Leadership Breakfast |<em> &quot\;Providing Value in Membership&quot\;</em></strong></li>\n	<li>9:15am - 10:00am:<strong> Breakout Session (two options)</strong>\n	<ul>\n		<li><em>TRACK 1: &quot\;Indentifying &amp\; Engaging the Next Generation of Leaders&quot\;</em>&nbsp\;(Rachel Branson\, NAHB)</li>\n		<li><em>TRACK 2: &quot\;Lightning Decision Jam&quot\;</em> Roundtable Discussions</li>\n	</ul>\n	</li>\n	<li>10:15am - 11:15am:<strong>&nbsp\;&quot\;<em>Build on Benefits | Structuring Success with NAHB Resources</em>&quot\; </strong>(Caroline Fabacher)</li>\n	<li>11:30am - 12:30pm: <strong><em>&quot\;Leadership Growth Hacks&quot\;</em></strong>&nbsp\;(David Belman)&nbsp\;Attendees will receive a complimentary copy of David&rsquo\;s book\, courtesy of the MBA. David will be available to sign books following the session.</li>\n	<li>12:30pm: <strong>Closing Comments</strong></li>\n	<li><strong>Box lunch available</strong></li>\n</ul>\n<strong><a href="https://chambermaster.blob.core.windows.net/userfiles/UserFiles/chambers/9187/File/2026Area10LeadershipConferenceAgendaFINAL1.pdf">CLICK HERE TO DOWNLOAD THE DETAILED AGENDA</a> </strong><br />\n<br />\n<span style="color:#a3b53a\;"><span style="font-size:16px\;"><strong>Registration includes</strong>:</span></span>\n\n<ul>\n	<li>Day One: Lunch\, Networking Reception with beverages and heavy appetizers</li>\n	<li>Day Two: Breakfast\, Box Lunch (to-go\, or to stay)</li>\n</ul>\n<br />\n<span style="font-size:14px\;"><span style="font-size:16px\;"><span style="color:#B22222\;"><strong>Parking &amp\; Access to Monona Terrace - VERY IMPORTANT!!!</strong></span></span><br />\nThere is construction along John Nolen Drive and the John Nolen Drive entrance to the Monona Terrace is not open. <a href="https://chambermaster.blob.core.windows.net/userfiles/UserFiles/chambers/9187/File/April13_BroomStreetClosure-Construction-Map.pdf"><span style="color:#0000FF\;">Click here for driving directions</span></a><br />\n<br />\nHere are a few options for parking....</span>\n\n<ul>\n	<li><span style="font-size:14px\;">Monona Terrace parking ramp - The only entrance to this ramp is from Wilson Street. <a href="https://chambermaster.blob.core.windows.net/userfiles/UserFiles/chambers/9187/File/DrivingDirectionstoParkingGarage-WilsonStduring2026project.pdf"><span style="color:#0000FF\;">Click here for a map</span></a><span style="color:#0000FF\;"> </span></span></li>\n	<li>Wilson Street Garage - 20 E. Wilson Street\, Madison - 1 block walk to Monona Terrace (this will likely be the least expensive option)</li>\n	<li>Hilton Monona Terrace - if you&#39\;re staying overnight at the Hilton they have an underground parking ramp and a skywalk to the Monona Terrace</li>\n</ul>\n<br />\n<strong style="color: rgb(163\, 181\, 58)\; font-size: 16px\;">Hotel Accomodations</strong><br />\nA block of rooms is available at the Hilton Madison Monona Terrace for the nights of April 22 &amp\; 23\, 2026 with a nightly rate of $169. Reservation cut-off date is March 23\, 2026.&nbsp\;<br />\n&nbsp\;\n<div style="margin-left: 40px\;"><strong>Booking Link:</strong>&nbsp\;<span style="color:black\;"><span style="font-family:calibri\,sans-serif\;"><a data-saferedirecturl="https://www.google.com/url?q=https://www.hilton.com/en/book/reservation/deeplink/?ctyhocn%3DMSNMHHF%26groupCode%3D935%26arrivaldate%3D2026-04-22%26departuredate%3D2026-04-24%26cid%3DOM\,WW\,HILTONLINK\,EN\,DirectLink%26fromId%3DHILTONLINKDIRECT&amp\;source=gmail&amp\;ust=1759584342692000&amp\;usg=AOvVaw1JZn2q2RyA-SOzaGI4ET4L" href="https://www.hilton.com/en/book/reservation/deeplink/?ctyhocn=MSNMHHF&amp\;groupCode=935&amp\;arrivaldate=2026-04-22&amp\;departuredate=2026-04-24&amp\;cid=OM\,WW\,HILTONLINK\,EN\,DirectLink&amp\;fromId=HILTONLINKDIRECT" name="HILTON BOOKING LINK" style="color:rgb(17\, 85\, 204)\;" target="_blank">https://www.hilton.com/en/<wbr />book/reservation/deeplink/?<wbr />ctyhocn=MSNMHHF&amp\;groupCode=935&amp\;<wbr />arrivaldate=2026-04-22&amp\;<wbr />departuredate=2026-04-24&amp\;cid=<wbr />OM\,WW\,HILTONLINK\,EN\,<wbr />DirectLink&amp\;fromId=<wbr />HILTONLINKDIRECT</a></span></span></div>\n&nbsp\;\n\n<div style="margin-left: 40px\;"><span style="font-size:11pt\;">Guests can also call Hilton reservations at <a href="tel:800-445-8667">800-445-8667</a> or call the hotel directly at <a href="tel:608-255-5100">608-255-5100</a> and reference the&nbsp\;<strong>group code: 935.</strong></span></div>\n<br />\n<span style="color:#a3b53a\;"><span style="font-size:16px\;"><strong>Sponsorship Opportunties</strong>:</span></span><br />\nIs this your first time attending an NAHB Leadership Training Conference?&nbsp\;NAHB has a limited number of scholarships/grants available. The link to apply is below. Please be sure to review all the requirements. Area 10 Leadership Conference Fees must be paid up front\, and if you are awarded a scholarship your payment will be refunded.&nbsp\;<br />\n<strong><a href="https://www.nahb.org/nahb-community/community-home/leadership-development/leadership-training/leadership-training-conference-grant">Scholarship Application</a></strong>\n\n<div><br />\n<span style="font-size:16px\;"><span style="color:#a3b53a\;"><strong>Questions</strong>:</span></span><br />\nPlease reach out to MABA Staff with questions! Lisa Kratz (<a href="mailto:lkratz@maba.org?subject=Area%2010%20Leadership%20Conference">lkratz@maba.org</a>\, <a href="tel:608-444-6965">608-444-6965</a>) or Chad Lawler (<a href="mailto:clawler@maba.org?subject=Area%2010%20Leadership%20Conference">clawler@maba.org</a>\, <a href="tel:608-469-1542">608-469-1542</a>)<br />\n&nbsp\;</div>\n<scribe-shadow data-crx="okfkdaglfjjjfefdcppliegebpoegaii" id="crxjs-ext" style="position: fixed\; width: 0px\; height: 0px\; top: 0px\; left: 0px\; z-index: 2147483647\; overflow: visible\; visibility: visible\;"></scribe-shadow>
LOCATION:Monona Terrace Convention Center 1 John Nolen Drive\, Madison\, WI 53703
UID:e.9187.656
SEQUENCE:3
DTSTAMP:20260423T204954Z
URL:http://maba.memberzone.com/events/details/2026-area-10-leadership-conference-656
END:VEVENT

END:VCALENDAR
