BEGIN:VCALENDAR
VERSION:2.0
PRODID:-//ChamberMaster//Event Calendar 2.0//EN
METHOD:PUBLISH
X-PUBLISHED-TTL:P3D
REFRESH-INTERVAL:P3D
CALSCALE:GREGORIAN
BEGIN:VEVENT
DTSTART:20250625T190000Z
DTEND:20250625T203000Z
X-MICROSOFT-CDO-ALLDAYEVENT:FALSE
SUMMARY:2025 Women in the Construction Industry VIP Tour of MABA Parade of Homes
DESCRIPTION:**PRIVATE EVENT**\n\n\n\nThe Women in the Construction Industry Wisconsin group invites you to tour the Madison Area Parade of Homes at Windsor Gardens! Thank you to all the Windsor Gardens Parade Builders for opening their Parade homes to us. \n\n	Bill Weber Jr. Homes\n	Capstone Building\n	Marten Building & Design\n	Willow Ridge Design Build\n\nBeverages will be provided.\n\n\n\nRSVP today!
X-ALT-DESC;FMTTYPE=text/html:<br />\n<span style="font-size:18px\;"><strong>**PRIVATE EVENT**</strong></span><br />\n<br />\n<span style="font-size:16px\;">The Women in the Construction Industry Wisconsin group invites you to tour the Madison Area Parade of Homes at Windsor Gardens! Thank you to all the Windsor Gardens Parade Builders for opening their Parade homes to us.&nbsp\;</span>\n<ul>\n	<li><a href="https://www.madisonparadeofhomes.com/bill-weber-jr-homes"><strong><span style="color:#0000CD\;"><span style="font-size: 16px\;">Bill Weber Jr. Homes</span></span></strong></a></li>\n	<li><a href="https://www.madisonparadeofhomes.com/capstone-building"><font color="#0000cd"><span style="font-size: 16px\;"><b>Capstone Building</b></span></font></a></li>\n	<li><a href="https://www.madisonparadeofhomes.com/marten-building-design-colton-way"><strong><span style="color:#0000CD\;"><span style="font-size: 16px\;">Marten Building &amp\; Design</span></span></strong></a></li>\n	<li><a href="https://www.madisonparadeofhomes.com/willow-ridge-design-build-colton"><strong><span style="color:#0000CD\;"><span style="font-size: 16px\;">Willow Ridge Design Build</span></span></strong></a></li>\n</ul>\n<span style="font-size:16px\;">Beverages will be provided.<br />\n<br />\nRSVP today!&nbsp\;</span>
LOCATION:Windsor Gardens Parade of Homes Site Look for us at Willow Ridge Design Build's house - 3330 Colton Way\, Windsor\, WI Scan the QR code below for Google Map driving directions
UID:e.9187.647
SEQUENCE:3
DTSTAMP:20260424T173048Z
URL:http://maba.memberzone.com/events/details/2025-women-in-the-construction-industry-vip-tour-of-maba-parade-of-homes-647
END:VEVENT

END:VCALENDAR
