BEGIN:VCALENDAR
VERSION:2.0
PRODID:-//ChamberMaster//Event Calendar 2.0//EN
METHOD:PUBLISH
X-PUBLISHED-TTL:P3D
REFRESH-INTERVAL:P3D
CALSCALE:GREGORIAN
BEGIN:VEVENT
DTSTART:20250410T200000Z
DTEND:20250411T010000Z
X-MICROSOFT-CDO-ALLDAYEVENT:FALSE
SUMMARY:2025 Toptracer Golf & Quarterly Membership Meeting
DESCRIPTION:We're teeing up a fantastic time at PinSeekers in DeForest on April 10th and you don't want to miss it!\n\nSwing by from 3:00 PM to 5:00 PM for an afternoon of friendly competition in the Toptracer golf suites each holding up to 6 players. Bring your own clubs or use PinSeekers   either way\, we're fore-tunate to have you join us!\n\nBut the fun doesn't stop there! Stick around for our Quarterly Membership Meeting from 5:00 PM to 8:00 PM\, featuring engaging speakers\, key updates\, and great networking opportunities.\n\n\n	Meeting Called to Order & Presidential Welcome - 6:00 p.m.\n	\n		Ken Nelson\, Victory Homes of Wisconsin & 2025 MABA President\n	\n	\n	MABA Update and Look Ahead - 6:05 p.m.\n	\n		Chad Lawler\, Executive Director\, MABA\n	\n	\n	Over Regulation\, Construction Costs\, and the Unaffordability Crisis - 6:15 p.m.\n	\n		Cost of Constructing a Home Survey - 2024\n		\n			Fan-Yu Kuo\, Senior Economist\, NAHB\n		\n		\n		Government Regulation is the Cost of a New Home\n		\n			Evan Branosky\, Senior Program Manager Environmental Policy\, NAHB\n		\n		\n		Upcoming Events & Thank you - 7:15 p.m.\n	\n	\n\n\nWhether you're coming straight from the golf suite or just joining us for the meeting\, we'd love to see you there!\n\n\n\nBoth events are FREE TO ATTEND! You'll receive two drink tickets\, delicious appetizers\, and a whole lot of fun. \n\nDon't be below par sign up and let's have a tee-rific time!
X-ALT-DESC;FMTTYPE=text/html:<p data-end="116" data-start="0">We&rsquo\;re teeing up a fantastic time at PinSeekers in DeForest on <strong data-end="82" data-start="62">April 10th&nbsp\;</strong>and you don&rsquo\;t want to miss it!</p>\n\n<p data-end="511" data-start="118">Swing by from <strong data-end="154" data-start="132">3:00 PM to 5:00 PM</strong> for an afternoon of friendly competition in the <strong>Toptracer golf suites</strong>&mdash\;each holding up to 6 players. Bring your own clubs or use PinSeekers &mdash\; either way\, we&rsquo\;re <strong data-end="425" data-start="410">fore-tunate</strong> to have you join us!</p>\n\n<p data-end="818" data-start="513">But the fun doesn&rsquo\;t stop there! Stick around for our <strong data-end="598" data-start="566">Quarterly Membership Meeting</strong> from <strong data-end="626" data-start="604">5:00 PM to 8:00 PM</strong>\, featuring engaging speakers\, key updates\, and great networking opportunities.</p>\n\n<ul>\n	<li data-end="818" data-start="513">Meeting Called to Order &amp\; Presidential Welcome - 6:00 p.m.\n	<ul>\n		<li data-end="818" data-start="513">Ken Nelson\, Victory Homes of Wisconsin &amp\; 2025 MABA President</li>\n	</ul>\n	</li>\n	<li data-end="818" data-start="513">MABA Update and Look Ahead - 6:05 p.m.\n	<ul>\n		<li data-end="818" data-start="513">Chad Lawler\, Executive Director\, MABA</li>\n	</ul>\n	</li>\n	<li data-end="818" data-start="513">Over Regulation\, Construction Costs\, and the Unaffordability Crisis - 6:15 p.m.\n	<ul>\n		<li data-end="818" data-start="513">Cost of Constructing a Home Survey - 2024\n		<ul>\n			<li data-end="818" data-start="513">Fan-Yu Kuo\, Senior Economist\, NAHB</li>\n		</ul>\n		</li>\n		<li data-end="818" data-start="513">Government Regulation is the Cost of a New Home\n		<ul>\n			<li data-end="818" data-start="513">Evan Branosky\, Senior Program Manager Environmental Policy\, NAHB</li>\n		</ul>\n		</li>\n		<li data-end="818" data-start="513">Upcoming Events &amp\; Thank you - 7:15 p.m.</li>\n	</ul>\n	</li>\n</ul>\n\n<p data-end="818" data-start="513">Whether you&#39\;re coming straight from the golf suite or just joining us for the meeting\, we&rsquo\;d love to see you there!<br />\n<br />\nBoth events are FREE TO ATTEND! You&rsquo\;ll receive&nbsp\;two drink tickets\, delicious appetizers\, and a whole lot of fun.&nbsp\;</p>\n\n<p data-end="896" data-is-last-node="" data-start="820">Don&rsquo\;t be <strong data-end="842" data-start="829">below par</strong>&mdash\;sign up and let&rsquo\;s have a <strong data-end="881" data-start="868">tee-rific</strong> time!</p>\n
LOCATION:PinSeekers 6909 River Road\, DeForest
UID:e.9187.615
SEQUENCE:3
DTSTAMP:20260424T201047Z
URL:http://maba.memberzone.com/events/details/2025-toptracer-golf-quarterly-membership-meeting-615
END:VEVENT

END:VCALENDAR
