BEGIN:VCALENDAR
VERSION:2.0
PRODID:-//ChamberMaster//Event Calendar 2.0//EN
METHOD:PUBLISH
X-PUBLISHED-TTL:P3D
REFRESH-INTERVAL:P3D
CALSCALE:GREGORIAN
BEGIN:VEVENT
DTSTART:20251030T223000Z
DTEND:20251031T010000Z
X-MICROSOFT-CDO-ALLDAYEVENT:FALSE
SUMMARY:2025 Silent Auction & Mayor's Club
DESCRIPTION:Please join us for our silent auction fundraising event in support of our political action programs. Following our exclusive donors event\, The Mayor's Club from 4:30pm to 5:30pm\, we will host a silent and live auction that is sure to be fun again this year!\n\n\n\nPlease consider donating to the silent auction!\n\nExamples of past donations are: cash\, gift cards\, booze baskets\, faucets\, toilets\, golf clubs\, and the list goes on and on! Contact Chad Lawler at clawler@maba.org or 608-288-1135 for more information. \n\n\n\nCash donors over $150 or items valued at $150 or more will receive an invitation to the exclusive Mayor's Club Reception with key elected officials.  Please contact Chad Lawler clawler@maba.org for more information on donations.
X-ALT-DESC;FMTTYPE=text/html:Please join us for our silent auction fundraising event in support of our political action programs. Following our exclusive donors event\, The Mayor&#39\;s Club from 4:30pm to 5:30pm\, we will host a silent and live auction that is sure to be fun again this year!<br />\n<br />\n<em><strong>Please consider donating to the silent auction!</strong></em><br />\nExamples of past donations are: cash\, gift cards\, booze baskets\, faucets\, toilets\, golf clubs\, and the list goes on and on! Contact Chad Lawler at <strong><a href="mailto:clawler@maba.org?subject=Silent%20Auction%20Donation">clawler@maba.org</a></strong> or <a href="tel:608-288-1135">608-288-1135</a>&nbsp\;for more information.&nbsp\;<br />\n<br />\n<span style="font-size:12px\;"><em>Cash donors over $150 or items valued at $150 or more will receive an invitation to the exclusive Mayor&#39\;s Club Reception with key elected officials.&nbsp\; Please contact Chad Lawler clawler@maba.org for more information on donations.</em></span>
LOCATION:Nakoma Country Club 4145 Country Club Rd\, Madison
UID:e.9187.651
SEQUENCE:3
DTSTAMP:20260424T114547Z
URL:http://maba.memberzone.com/events/details/2025-silent-auction-mayor-s-club-651
END:VEVENT

END:VCALENDAR
