BEGIN:VCALENDAR
VERSION:2.0
PRODID:-//ChamberMaster//Event Calendar 2.0//EN
METHOD:PUBLISH
X-PUBLISHED-TTL:P3D
REFRESH-INTERVAL:P3D
CALSCALE:GREGORIAN
BEGIN:VEVENT
DTSTART:20250925T220000Z
DTEND:20250926T010000Z
X-MICROSOFT-CDO-ALLDAYEVENT:FALSE
SUMMARY:2025 Oktoberfest at Prost! Madison
DESCRIPTION:Join us for the most un-BEER-lievable Oktoberfest!\n\n\nRegistration includes 1 drink and appetizers!
X-ALT-DESC;FMTTYPE=text/html:<h3>&nbsp\;</h3>\n\n<h2><span style="font-family:verdana\;"><em><strong>Join us for the most un-BEER-lievable Oktoberfest!</strong></em></span></h2>\n<br />\n<span style="font-family:verdana\;">Registration includes 1 drink and appetizers!</span>
LOCATION:Prost! MSN | German Beer Hall & Restaurant 401 E. Washington Ave\, Madison
UID:e.9187.652
SEQUENCE:3
DTSTAMP:20260424T113424Z
URL:http://maba.memberzone.com/events/details/2025-oktoberfest-at-prost-madison-652
END:VEVENT

END:VCALENDAR
