BEGIN:VCALENDAR
VERSION:2.0
PRODID:-//ChamberMaster//Event Calendar 2.0//EN
METHOD:PUBLISH
X-PUBLISHED-TTL:P3D
REFRESH-INTERVAL:P3D
CALSCALE:GREGORIAN
BEGIN:VEVENT
DTSTART:20251203T230000Z
DTEND:20251204T030000Z
X-MICROSOFT-CDO-ALLDAYEVENT:FALSE
SUMMARY:2025 MABA Holiday Party
DESCRIPTION:Get ready to Jingle & Mingle!\n\n\n\nJoin us for the MABA Annual Holiday Party and help us celebrate the season!\n\n\n\nCarl Harris\, NAHB Immediate Past Chairman\, will be joining us to install the 2026 President and Board of Directors. \n\n\n\n2025 Achievement Awards Presentations\n\n\n	Builder of the Year\n	Associate of the Year\n	Volunteer of the Year\n	Champions Awards (Advocacy\, Workforce\, Membership\, Philanthropy)\n\n Registration fee includes 2 drinks\, appetizers\, and a jolly good time!\n\n\n\nCASH ONLY accepted at the bar! There is an ATM on-site.
X-ALT-DESC;FMTTYPE=text/html:<h2 style="font-style:italic\;">&nbsp\;<br />\nGet ready to Jingle &amp\; Mingle!</h2>\n\n<p><br />\n<span style="font-size:14px\;">Join us for the MABA Annual Holiday Party and help us celebrate the season!<br />\n<br />\nCarl Harris\, NAHB Immediate Past Chairman\, will be joining us to install the 2026 President and Board of Directors.&nbsp\;<br />\n<br />\n<u>2025&nbsp\;Achievement Awards Presentations</u></span></p>\n\n<ul>\n	<li><span style="font-size:14px\;">Builder of the Year</span></li>\n	<li><span style="font-size:14px\;">Associate of the Year</span></li>\n	<li><span style="font-size:14px\;">Volunteer of the Year</span></li>\n	<li><span style="font-size: 14px\;">Champions Awards (Advocacy\,&nbsp\;Workforce\, Membership\, Philanthropy)</span></li>\n</ul>\n<span style="font-size:14px\;">&#8203\;Registration fee includes 2 drinks\, appetizers\, and a jolly good time!<br />\n<br />\n<span style="font-size:16px\;"><strong><span style="background-color:#99ff00\;">CASH ONLY accepted at the bar! There is an ATM on-site.</span></strong></span></span>
LOCATION:Maple Bluff Country Club 500 Kensington Dr\, Madison\, WI 53704 CASH ONLY accepted at the bar! There is an ATM on-site.
UID:e.9187.642
SEQUENCE:3
DTSTAMP:20260424T054730Z
URL:http://maba.memberzone.com/events/details/2025-maba-holiday-party-642
END:VEVENT

END:VCALENDAR
