BEGIN:VCALENDAR
VERSION:2.0
PRODID:-//ChamberMaster//Event Calendar 2.0//EN
METHOD:PUBLISH
X-PUBLISHED-TTL:P3D
REFRESH-INTERVAL:P3D
CALSCALE:GREGORIAN
BEGIN:VEVENT
DTSTART:20250604T210000Z
DTEND:20250605T000000Z
X-MICROSOFT-CDO-ALLDAYEVENT:FALSE
SUMMARY:2025 MABA Happy Hour - Hosted by Walk Your Plans
DESCRIPTION:Happy Hour with MABA & Walk Your Plans\n\nWho doesn't love a drink with fellow industry peers after work?\n\nJoin the Madison Area Builders Association as we welcome Walk Your Plans to Madison! Come explore their brand-new\, life-sized showroom while enjoying complimentary drinks and appetizers.\n\nWalk Your Plans transforms traditional blueprints into full-scale layouts you can physically walk through bringing every room\, hallway\, and corner to life. Whether you're planning a new build or reimagining a renovation\, their immersive showroom experience helps you visualize every detail before construction begins.\n\nNetwork\, unwind\, and see how this innovative approach is changing the way we design homes.\n\n \n\nParking Update: \n\nParking is limited on-site\, but there are several nearby options available. You may park in the front and side stalls of Walk Your Plans' building or behind the building in the Ace Electric lot. Additionally\, Madison Lighting has given us the green light to use their lot that evening! Please see the image in the photo gallery for a good visual.
X-ALT-DESC;FMTTYPE=text/html:<p data-end="284" data-start="151"><strong data-end="193" data-start="151">Happy Hour with MABA &amp\; Walk Your Plans</strong></p>\n\n<p data-end="349" data-start="286">Who doesn&rsquo\;t love a drink with fellow industry peers after work?</p>\n\n<p data-end="541" data-start="351">Join the Madison Area Builders Association as we welcome <strong data-end="427" data-start="408">Walk Your Plans</strong> to Madison! Come explore their brand-new\, life-sized showroom while enjoying complimentary drinks and appetizers.</p>\n\n<p data-end="864" data-start="543"><strong data-end="562" data-start="543">Walk Your Plans</strong> transforms traditional blueprints into full-scale layouts you can physically walk through&mdash\;bringing every room\, hallway\, and corner to life. Whether you&#39\;re planning a new build or reimagining a renovation\, their immersive showroom experience helps you visualize every detail before construction begins.</p>\n\n<p data-end="956" data-start="866">Network\, unwind\, and see how this innovative approach is changing the way we design homes.</p>\n\n<p data-end="956" data-start="866">&nbsp\;</p>\n\n<p data-end="956" data-start="866">Parking Update:&nbsp\;</p>\n\n<p data-end="956" data-start="866">Parking is limited on-site\, but there are several nearby options available. You may park in the front and side stalls of Walk Your Plans&#39\; building or behind the building in the Ace Electric lot. Additionally\, Madison Lighting has given us the green light to use their lot that evening! Please see the image in the photo gallery for a good visual.&nbsp\;</p>\n
LOCATION:Walk Your Plans New Showroom in Madison\, WI 6630 Watts Road (Suite A) Madison\, WI 53719
UID:e.9187.640
SEQUENCE:3
DTSTAMP:20260424T185005Z
URL:http://maba.memberzone.com/events/details/2025-maba-happy-hour-hosted-by-walk-your-plans-640
END:VEVENT

END:VCALENDAR
