BEGIN:VCALENDAR
VERSION:2.0
PRODID:-//ChamberMaster//Event Calendar 2.0//EN
METHOD:PUBLISH
X-PUBLISHED-TTL:P3D
REFRESH-INTERVAL:P3D
CALSCALE:GREGORIAN
BEGIN:VEVENT
DTSTART:20250827T220000Z
DTEND:20250828T010000Z
X-MICROSOFT-CDO-ALLDAYEVENT:FALSE
SUMMARY:2025 MABA Happy Hour - Hosted by Gerhard's
DESCRIPTION:Unwind with us at Gerhard's!\n\nRaise a glass with fellow industry pros at this fun and relaxed after-hours gathering. Enjoy complimentary food and drinks\, great conversation\, and a stylish setting courtesy of Gerhard's Kitchen\, Bath & Lighting Store.
X-ALT-DESC;FMTTYPE=text/html:<p data-end="89" data-start="57"><span style="font-size:24px\;"><strong data-end="89" data-start="57">Unwind with us at Gerhard&rsquo\;s!</strong></span></p>\n\n<p data-end="356" data-start="91"><span style="font-size:24px\;">Raise a glass with fellow industry pros at this fun and relaxed after-hours gathering. Enjoy complimentary food and drinks\, great conversation\, and a stylish setting courtesy of&nbsp\;<strong data-end="304" data-start="260">Gerhard&rsquo\;s Kitchen\, Bath &amp\; Lighting Store.</strong></span></p>\n
LOCATION:Gerhard's Kitchen\, Bath & Lighting Store
UID:e.9187.650
SEQUENCE:3
DTSTAMP:20260424T130250Z
URL:http://maba.memberzone.com/events/details/2025-maba-happy-hour-hosted-by-gerhard-s-650
END:VEVENT

END:VCALENDAR
