BEGIN:VCALENDAR
VERSION:2.0
PRODID:-//ChamberMaster//Event Calendar 2.0//EN
METHOD:PUBLISH
X-PUBLISHED-TTL:P3D
REFRESH-INTERVAL:P3D
CALSCALE:GREGORIAN
BEGIN:VEVENT
DTSTART:20250508T210000Z
DTEND:20250509T000000Z
X-MICROSOFT-CDO-ALLDAYEVENT:FALSE
SUMMARY:2025 MABA Happy Hour - Hosted by Ferguson Home
DESCRIPTION:Who doesn't love a drink with fellow industry peers after work?\n\n\n\nJoin us for the Ferguson Home Grand Opening Party at their new showroom! \n\n \n\n\n	Live cooking demonstrations on live fire appliances\n	Food prepared by Heritage Tavern\, Chef at Large\, and Sub Zero's personal chef\n	Bourbon tasting\n	Live music\n	Giveaways\n	A host of vendors there to answer questions
X-ALT-DESC;FMTTYPE=text/html:<h2 style="font-style:italic\;">&nbsp\;</h2>\n\n<p><strong style="font-size: 18px\;"><span background-color:="" trebuchet="">Who doesn&#39\;t love a drink with fellow industry peers after work?</span></strong></p>\n\n<p><br />\n<span style="font-size:18px\;"><strong><span background-color:="" style="color: rgb(51\, 51\, 51)\; font-family: sans-serif\, Arial\, Verdana\, " trebuchet="">Join us for the Ferguson Home Grand Opening Party at their new showroom! </span></strong></span><br />\n&nbsp\;</p>\n\n<ul>\n	<li><em><span style="font-size:18px\;"><strong><span background-color:="" style="color: rgb(51\, 51\, 51)\; font-family: sans-serif\, Arial\, Verdana\, " trebuchet="">Live cooking demonstrations on live fire appliances</span></strong></span></em></li>\n	<li><em><span style="font-size:18px\;"><strong><span background-color:="" style="color: rgb(51\, 51\, 51)\; font-family: sans-serif\, Arial\, Verdana\, " trebuchet=""><span style="font-size:18px\;"><strong><span background-color:="" style="color: rgb(51\, 51\, 51)\; font-family: sans-serif\, Arial\, Verdana\, " trebuchet="">Food&nbsp\;prepared by Heritage Tavern\, Chef at Large\, and Sub Zero&#39\;s personal chef</span></strong></span></span></strong></span></em></li>\n	<li><em><span style="font-size:18px\;"><strong><span background-color:="" style="color: rgb(51\, 51\, 51)\; font-family: sans-serif\, Arial\, Verdana\, " trebuchet=""><span style="font-size:18px\;"><strong><span background-color:="" style="color: rgb(51\, 51\, 51)\; font-family: sans-serif\, Arial\, Verdana\, " trebuchet=""><span style="font-size:18px\;"><strong><span background-color:="" style="color: rgb(51\, 51\, 51)\; font-family: sans-serif\, Arial\, Verdana\, " trebuchet="">Bourbon tasting</span></strong></span></span></strong></span></span></strong></span></em></li>\n	<li><em><span style="font-size:18px\;"><strong><span background-color:="" style="color: rgb(51\, 51\, 51)\; font-family: sans-serif\, Arial\, Verdana\, " trebuchet=""><span style="font-size:18px\;"><strong><span background-color:="" style="color: rgb(51\, 51\, 51)\; font-family: sans-serif\, Arial\, Verdana\, " trebuchet=""><span style="font-size:18px\;"><strong><span background-color:="" style="color: rgb(51\, 51\, 51)\; font-family: sans-serif\, Arial\, Verdana\, " trebuchet="">Live music</span></strong></span></span></strong></span></span></strong></span></em></li>\n	<li><em><span style="font-size:18px\;"><strong><span background-color:="" style="color: rgb(51\, 51\, 51)\; font-family: sans-serif\, Arial\, Verdana\, " trebuchet=""><span style="font-size:18px\;"><strong><span background-color:="" style="color: rgb(51\, 51\, 51)\; font-family: sans-serif\, Arial\, Verdana\, " trebuchet=""><span style="font-size:18px\;"><strong><span background-color:="" style="color: rgb(51\, 51\, 51)\; font-family: sans-serif\, Arial\, Verdana\, " trebuchet="">Giveaways</span></strong></span></span></strong></span></span></strong></span></em></li>\n	<li><em><span style="font-size:18px\;"><strong><span background-color:="" style="color: rgb(51\, 51\, 51)\; font-family: sans-serif\, Arial\, Verdana\, " trebuchet=""><span style="font-size:18px\;"><strong><span background-color:="" style="color: rgb(51\, 51\, 51)\; font-family: sans-serif\, Arial\, Verdana\, " trebuchet=""><span style="font-size:18px\;"><strong><span background-color:="" style="color: rgb(51\, 51\, 51)\; font-family: sans-serif\, Arial\, Verdana\, " trebuchet="">A host of vendors there to answer questions</span></strong></span></span></strong></span></span></strong></span></em></li>\n</ul>\n\n<p><br />\n<br />\n&nbsp\;</p>\n
LOCATION:3802 Galleon Run\, Madison
UID:e.9187.626
SEQUENCE:3
DTSTAMP:20260424T190457Z
URL:http://maba.memberzone.com/events/details/2025-maba-happy-hour-hosted-by-ferguson-home-626
END:VEVENT

END:VCALENDAR
