BEGIN:VCALENDAR
VERSION:2.0
PRODID:-//ChamberMaster//Event Calendar 2.0//EN
METHOD:PUBLISH
X-PUBLISHED-TTL:P3D
REFRESH-INTERVAL:P3D
CALSCALE:GREGORIAN
BEGIN:VEVENT
DTSTART:20250910T143000Z
DTEND:20250910T230000Z
X-MICROSOFT-CDO-ALLDAYEVENT:FALSE
SUMMARY:2025 MABA Golf Outing Presented by Baer Insurance and Frankenmuth Insurance
DESCRIPTION:SOLD OUT!\n\n\n\nWe are excited to be hosting this years golf outing\, presented by Baer Insurance and Frankenmuth Insurance\, at Pleasant View Golf Course on September 10\, 2025. Situated on hills approximately 300 feet above Lake Mendota\, Pleasant View Golf Course provides a panoramic view of the City of Madison. \n\n\n	\n	9:30 AM Registration & Bloody Mary Bar Starts\n	\n	\n	11:00 AM Shotgun Start\n	\n	\n	4:00 PM After-Party Starts\n	\n\n\nRegistration includes 18 holes of golf with cart\, hot lunch at the turn\, Bloody Mary\, drink tickets\, and after party\n\n\n\nInterested in sponsorship opportunities? Contact Lisa at lkratz@maba.org or 608-288-1134 to sign up!
X-ALT-DESC;FMTTYPE=text/html:<p><font color="#b22222" face="arial"><span style="font-size: 28px\;"><b>SOLD OUT!</b></span></font><br />\n<br />\n<span style="font-size:18px\;"><span style="font-family:arial\;">We are excited to be hosting this years golf outing\, presented by <a href="http://www.baerinsurance.com"><span style="color:#0000CD\;">Baer Insurance</span></a> and <a href="http://www.fmins.com"><span style="color:#0000CD\;">Frankenmuth Insurance</span></a>\, at Pleasant View Golf Course on September 10\, 2025. Situated on hills approximately 300 feet above Lake Mendota\, Pleasant View Golf Course provides a panoramic view of the City of Madison.&nbsp\;</span></span></p>\n\n<ul>\n	<li>\n	<p><span style="font-family: arial\;">9:30 AM Registration &amp\; Bloody Mary Bar Starts</span></p>\n	</li>\n	<li>\n	<p><span style="font-family: arial\;">11:00 AM Shotgun Start</span></p>\n	</li>\n	<li>\n	<p><span style="font-family: arial\;">4:00 PM After-Party Starts</span></p>\n	</li>\n</ul>\n\n<p>Registration includes 18 holes of golf with cart\, hot lunch at the turn\, Bloody Mary\, drink tickets\, and after party<br />\n<br />\n<span style="font-family: arial\;">Interested in sponsorship opportunities? Contact Lisa at lkratz@maba.org or <a href="tel:608-288-1134">608-288-1134</a> to sign up!</span></p>\n
LOCATION:Pleasant View Golf Course
UID:e.9187.636
SEQUENCE:3
DTSTAMP:20260424T113250Z
URL:http://maba.memberzone.com/events/details/2025-maba-golf-outing-presented-by-baer-insurance-and-frankenmuth-insurance-636
END:VEVENT

END:VCALENDAR
