BEGIN:VCALENDAR
VERSION:2.0
PRODID:-//ChamberMaster//Event Calendar 2.0//EN
METHOD:PUBLISH
X-PUBLISHED-TTL:P3D
REFRESH-INTERVAL:P3D
CALSCALE:GREGORIAN
BEGIN:VEVENT
DTSTART;VALUE=DATE:20250428
DTEND;VALUE=DATE:20250429
TRANSP:TRANSPARENT
X-MICROSOFT-CDO-ALLDAYEVENT:TRUE
SUMMARY:2025 MABA Golf League
DESCRIPTION:MABA is starting a Golf League!\n\n\n\nSign up to tee off with your favorite golfers at Pleasant View Golf Course! \n\n\n\nLeague Dates:\n\n	April 28\n	May 5\, 12 & 19\n	June 9\n	August 4\, 11\, 18 & 25\n	September 8\n	Alternate (make-up) Dates: September 15 & 22\n\n10 weeks on Monday's (excluding some weeks) with tee times from 1:30 to 3:00\n\n\n\nIncludes 9 holes with cart\, rotating between Lake\, Prairie & Woods courses.
X-ALT-DESC;FMTTYPE=text/html:<em><strong><span style="font-size:24px\;">MABA is starting a Golf League!</span></strong></em><br />\n<br />\nSign up to tee off with your favorite golfers at Pleasant View Golf Course!&nbsp\;<br />\n<br />\n<strong>League Dates:</strong>\n<ul>\n	<li>April 28</li>\n	<li>May 5\, 12 &amp\; 19</li>\n	<li>June 9</li>\n	<li>August 4\, 11\, 18 &amp\; 25</li>\n	<li>September 8</li>\n	<li>Alternate (make-up) Dates: September 15 &amp\; 22</li>\n</ul>\n10 weeks on Monday&#39\;s (excluding some weeks) with tee times from 1:30 to 3:00<br />\n<br />\nIncludes 9 holes with cart\, rotating between Lake\, Prairie &amp\; Woods courses.&nbsp\;<br />\n&nbsp\;
LOCATION:Pleasant View Golf Course
UID:e.9187.617
SEQUENCE:3
DTSTAMP:20260424T214435Z
URL:http://maba.memberzone.com/events/details/2025-maba-golf-league-617
END:VEVENT

END:VCALENDAR
