BEGIN:VCALENDAR
VERSION:2.0
PRODID:-//ChamberMaster//Event Calendar 2.0//EN
METHOD:PUBLISH
X-PUBLISHED-TTL:P3D
REFRESH-INTERVAL:P3D
CALSCALE:GREGORIAN
BEGIN:VEVENT
DTSTART:20250728T143000Z
DTEND:20250728T230000Z
X-MICROSOFT-CDO-ALLDAYEVENT:FALSE
SUMMARY:2025 MABA Foundation Golf Outing Presented by Pella Windows & Doors of Wisconsin
DESCRIPTION:SOLD OUT!\n\n\n\nJoin us at the 2025 MABA Foundation Golf Outing ("Ken's Klassic")\, presented by Pella Windows & Doors of Wisconsin\, held at Bishops Bay on July 28\, 2025.\n\n\n	\n	9:30 AM Registration & Bloody Mary Bar Opens\n	\n	\n	11:00 AM Shotgun Start\n	\n	\n	4:30 PM After-Party starts\n	\n\n\nRegistration includes 18 holes of golf with cart\, box lunch\, Bloody Mary\, drink tickets\, and after-party\n\nBRING CASH! The Turnhouses accept cash only\, and there's no ATM on site.\n\n\n\nSPONSORSHIPS STILL AVAILABLE:  Registration | Golf Hole \n\n Contact Lisa Kratz to claim your sponsorship at lkratz@maba.org.\n\n\n\nThe MABA Foundation is a charitable organization who's mission is to provide charitable relief to those in need by supporting community charitable organizations that -- promote the building industry as an excellent career choice\, encourage ongoing training for professionals in the industry as well as the home buying public\, and support research that furthers the advancement of the industry.
X-ALT-DESC;FMTTYPE=text/html:<h1><font color="#b22222" face="arial"><span style="font-size: 28px\;"><b>SOLD OUT!</b></span></font></h1>\n\n<p><br />\n<span style="font-size:16px\;"><span style="font-family:arial\;">Join us at the 2025 MABA Foundation Golf Outing (&quot\;Ken&rsquo\;s Klassic&quot\;)\, presented by <a href="http://pellawi.com"><font color="#0000cd">Pella Windows &amp\; Doors of Wisconsin</font></a>\,&nbsp\;held at Bishops Bay on July 28\, 2025.</span></span></p>\n\n<ul>\n	<li>\n	<p><span style="font-size:14px\;"><span style="font-family:arial\;">9:30 AM Registration &amp\; Bloody Mary Bar Opens</span></span></p>\n	</li>\n	<li>\n	<p><span style="font-size:14px\;"><span style="font-family:arial\;">11:00 AM Shotgun Start</span></span></p>\n	</li>\n	<li>\n	<p><span style="font-size:14px\;"><span style="font-family:arial\;">4:30 PM After-Party starts</span></span></p>\n	</li>\n</ul>\n\n<p><font face="arial"><span style="font-size: 14px\;">Registration includes 18 holes of golf with cart\, box&nbsp\;lunch\, Bloody Mary\, drink tickets\, and after-party</span></font></p>\n\n<p><span style="color:#008000\;"><strong>BRING CASH! The Turnhouses accept cash only\, and there&rsquo\;s no ATM on site.</strong></span><br />\n<br />\n<strong style="font-family: arial\; font-size: 14px\;">SPONSORSHIPS STILL AVAILABLE:&nbsp\;</strong><font face="arial"><span style="font-size: 14px\;">&nbsp\;Registration | Golf Hole&nbsp\;</span></font><br />\n<font face="arial"><span style="font-size: 14px\;">&#8203\;Contact Lisa Kratz&nbsp\;to claim your sponsorship at <a href="mailto:lkratz@maba.org?subject=MABA%20Foundation%20Golf%20Outing%20Sponsorship">lkratz@maba.org</a>.</span></font><br />\n<br />\n<span style="font-size:14px\;"><span style="font-family:arial\;"><span style="font-size:12px\;"><em>The MABA Foundation is a charitable organization who&#39\;s mission is to provide charitable relief to those in need by supporting community charitable organizations that -- promote the building industry as an excellent career choice\, encourage ongoing training for professionals in the industry as well as the home buying public\, and support research that furthers the advancement of the industry.</em></span></span></span><br />\n&nbsp\;</p>\n
LOCATION:Bishops Bay Country Club 3500 Bishops Bay Drive\, Middleton
UID:e.9187.635
SEQUENCE:3
DTSTAMP:20260424T155122Z
URL:http://maba.memberzone.com/events/details/2025-maba-foundation-golf-outing-presented-by-pella-windows-doors-of-wisconsin-635
END:VEVENT

END:VCALENDAR
