BEGIN:VCALENDAR
VERSION:2.0
PRODID:-//ChamberMaster//Event Calendar 2.0//EN
METHOD:PUBLISH
X-PUBLISHED-TTL:P3D
REFRESH-INTERVAL:P3D
CALSCALE:GREGORIAN
BEGIN:VEVENT
DTSTART:20250311T220000Z
DTEND:20250312T010000Z
X-MICROSOFT-CDO-ALLDAYEVENT:FALSE
SUMMARY:2025 Happy Hour at Siding Unlimited
DESCRIPTION:Who doesn't love a drink with fellow industry peers after work? Join us for refreshments at Siding Unlimited & Outdoor Living Unlimited!\n\n \n\nYou're invited to welcome Siding Unlimited & Outdoor Living Unlimited to Madison by visiting their new showroom!\n\n\n\nIndulge in complimentary appetizers and drinks as you explore and learn more about them.
X-ALT-DESC;FMTTYPE=text/html:<h2 style="font-style: italic\;"><strong><em><span style="font-family: calibri\, sans-serif\;"><span style="font-size: 18pt\;">Who doesn&#39\;t love a drink with fellow industry peers after work?&nbsp\;Join us for refreshments at Siding Unlimited &amp\; Outdoor Living Unlimited!</span></span></em></strong><br />\n&nbsp\;<br />\n<span style="font-family: calibri\, sans-serif\;"><span style="font-size: 16pt\;">You&#39\;re invited to welcome Siding Unlimited &amp\; Outdoor Living Unlimited to Madison by visiting their new showroom!</span></span><br />\n<br />\n<span style="font-family: calibri\, sans-serif\;"><span style="font-size: 16pt\;">Indulge in complimentary appetizers and drinks as you explore and learn more about them.</span></span><br />\n&nbsp\;</h2>\n
LOCATION:Siding Unlimited & Outdoor Living Unlimited 2018 S. Stoughton Rd\, Madison
UID:e.9187.614
SEQUENCE:3
DTSTAMP:20260424T230907Z
URL:http://maba.memberzone.com/events/details/2025-happy-hour-at-siding-unlimited-614
END:VEVENT

END:VCALENDAR
