BEGIN:VCALENDAR
VERSION:2.0
PRODID:-//ChamberMaster//Event Calendar 2.0//EN
METHOD:PUBLISH
X-PUBLISHED-TTL:P3D
REFRESH-INTERVAL:P3D
CALSCALE:GREGORIAN
BEGIN:VEVENT
DTSTART:20251002T163000Z
DTEND:20251002T203000Z
X-MICROSOFT-CDO-ALLDAYEVENT:FALSE
SUMMARY:2025 Fall Sporting Clays Classic
DESCRIPTION:Join Us for MABA's 6th Annual Fall Sporting Clay Classic at Milford Hills!\n\nExperience the thrill of sporting clays at Milford Hills in Johnson Creek one of the premier hunt clubs in the Midwest! This top-tier destination for shooters and hunters offers a beautifully designed course. Expect a mix of trajectories\, angles\, speeds\, elevations\, and distances to keep things exciting!\n\nWhat's Included?\n\n   BBQ Lunch Buffet\n\n   Sporting Clays Course\n\n   2 Boxes of Ammo per Shooter\n\n   After-Shoot Cocktails & Appetizers\n\nSponsorships Available! Support the event with a Station Sponsorship for $250. Contact Lisa Kratz at lkratz@maba.org or Faith Barrett at fbarrett@maba.org for questions about this event.\n\nDon't Wait to Register!\n\nMilford Hills requires our final headcount well in advance\, so register now you can provide team names later!\n\nNo team? No problem! Sign up as an individual\, and we'll match you up.\n\nGUN BOARD RAFFLE\n\n  Two Drawings\, Two Winners!\n\n   $20 per ticket\n\n   Buy 5\, Get 2 Free!\n\nSecure your spot today and get ready for an unforgettable day of shooting\, camaraderie\, and great food!
X-ALT-DESC;FMTTYPE=text/html:<p><strong>Join Us for MABA&#39\;s 6th&nbsp\;Annual Fall Sporting Clay Classic at Milford Hills!</strong></p>\n\n<p>Experience the thrill of sporting clays at <strong>Milford Hills in Johnson Creek</strong>&mdash\;one of the premier hunt clubs in the Midwest! This top-tier destination for shooters and hunters offers a beautifully designed course. Expect a mix of trajectories\, angles\, speeds\, elevations\, and distances to keep things exciting!</p>\n\n<h3><strong>What&rsquo\;s Included?</strong></h3>\n\n<p>&#10004\;&#65039\; <strong>BBQ Lunch Buffet</strong><br />\n&#10004\;&#65039\; <strong>Sporting Clays Course</strong><br />\n&#10004\;&#65039\; <strong>2 Boxes of Ammo per Shooter</strong><br />\n&#10004\;&#65039\; <strong>After-Shoot Cocktails &amp\; Appetizers</strong></p>\n\n<p><strong>Sponsorships Available!</strong> Support the event with a <strong>Station Sponsorship</strong><b><strong>&nbsp\;</strong></b>for $250.&nbsp\;Contact Lisa Kratz at <strong><a href="mailto:lkratz@maba.org">lkratz@maba.org</a></strong> or Faith Barrett at fbarrett@maba.org for questions about this event.</p>\n\n<h3><strong>Don&rsquo\;t Wait to Register!</strong></h3>\n\n<p>Milford Hills requires our final headcount well in advance\, so <strong>register now</strong>&mdash\;you can provide team names later!</p>\n\n<p><strong>No team? No problem!</strong> Sign up as an individual\, and we&rsquo\;ll match you up.</p>\n\n<h3><strong>GUN BOARD RAFFLE</strong></h3>\n\n<p>&#127919\; <strong>Two Drawings\, Two Winners!</strong><br />\n&#127903\;&#65039\; <strong>$20 per ticket</strong><br />\n&#127903\;&#65039\; <strong>Buy 5\, Get 2 Free!</strong></p>\n\n<p>Secure your spot today and get ready for an unforgettable day of shooting\, camaraderie\, and great food!</p>\n
LOCATION:Milford Hills W5670 French Rd Johnson Creek\, WI 53038
UID:e.9187.641
SEQUENCE:3
DTSTAMP:20260424T100330Z
URL:http://maba.memberzone.com/events/details/2025-fall-sporting-clays-classic-641
END:VEVENT

END:VCALENDAR
