BEGIN:VCALENDAR
VERSION:2.0
PRODID:-//ChamberMaster//Event Calendar 2.0//EN
METHOD:PUBLISH
X-PUBLISHED-TTL:P3D
REFRESH-INTERVAL:P3D
CALSCALE:GREGORIAN
BEGIN:VEVENT
DTSTART;VALUE=DATE:20251017
DTEND;VALUE=DATE:20251020
TRANSP:TRANSPARENT
X-MICROSOFT-CDO-ALLDAYEVENT:TRUE
SUMMARY:2025 Fall Parade of Homes (second weekend)
DESCRIPTION:Whether you're ready to start building or just want to be inspired by the latest trends\, you can find inspiration and connect with building professionals at the 2025 Fall Parade of Homes.\n\n\n\nGo to www.madisonfallparadeofhomes.com for more information.
X-ALT-DESC;FMTTYPE=text/html:<p>&nbsp\;</p>\n\n<p><span style="font-family:verdana\;"><em><span style="font-size:14px\;">Whether you&#39\;re ready to start building or just want to be inspired by the latest trends\, you can find inspiration and connect with building professionals at the 2025 Fall Parade of Homes.<br />\n<br />\nGo to <a href="http://www.madisonparadeofhomes.com">www.madisonfallparadeofhomes.com</a> for more information.&nbsp\;</span></em></span></p>\n
LOCATION:Visit www.madisonfallparadeofhomes.com for home locations and Google Map driving directions
UID:e.9187.631
SEQUENCE:3
DTSTAMP:20260424T112916Z
URL:http://maba.memberzone.com/events/details/2025-fall-parade-of-homes-second-weekend-631
END:VEVENT

END:VCALENDAR
