BEGIN:VCALENDAR
VERSION:2.0
PRODID:-//ChamberMaster//Event Calendar 2.0//EN
METHOD:PUBLISH
X-PUBLISHED-TTL:P3D
REFRESH-INTERVAL:P3D
CALSCALE:GREGORIAN
BEGIN:VEVENT
DTSTART:20250723T203000Z
DTEND:20250724T010000Z
X-MICROSOFT-CDO-ALLDAYEVENT:FALSE
SUMMARY:2025 Educational Series & Quarterly Membership Meeting
DESCRIPTION:Before the July Quarterly Meeting\, join us to learn about the many great funding opportunities offered by WHEDA.  Learn how you as a MABA member can tap into programs that the Wisconsin Builders Association helped champion in 2024!\n\n\n\nThe educational event is a program update on WHEDA multi-family and single-family funding programs with Craig Eyers and Rebecca Giroux.\n\n\n\nJoin us for the Quarterly Meeting as we focus on what is new for you as members. (Hint... its a lot!)\n\n	Meeting Called to Order & Presidential Welcome - 6:00 p.m.\n	\n		Ken Nelson\, Victory Homes of Wisconsin & 2025 MABA President\n	\n	\n	Unveiling MABA's NEW Development & Building Resource Center - 6:05 p.m.\n	\n		Chad Lawler\, Executive Director\, MABA\n	\n	\n	MABA Study: Residential Construction Fees by Municipality - 6:15 p.m.\n	\n		Matt Schreiner\, Director of Services/Principal\, Vierbicher\n		Matthew Miller\, Urban Services Planner\, Vierbicher\n		Andy Kurtz\, Planning and Community Development Manager\, Vierbicher\n	\n	\n	Special Guests: It's Not Just Us! Common State & Local Issues Nationwide - 6:45 p.m.\n	\n		Karl Eckhart\, VP State & Local Government Affairs\, NAHB\n		Lily Weatherby\, Director State & Local Government Affairs\, NAHB\n		Bailey Thompson\, Director State & Local Government Affairs\, NAHB\n	\n	\n	Upcoming Events & Thank you - 7:15 p.m.\n\n\nBoth events are FREE TO ATTEND!
X-ALT-DESC;FMTTYPE=text/html:Before the July Quarterly Meeting\, join us to learn about the many great funding opportunities offered by WHEDA.&nbsp\; Learn how you as a MABA member can tap into programs that the Wisconsin Builders Association helped champion in 2024!<br />\n<br />\nThe educational event is a program update on WHEDA multi-family and single-family funding programs with Craig Eyers and Rebecca Giroux.<br />\n<br />\nJoin us for the Quarterly Meeting as we focus on what is new for you as members. (Hint... its a lot!)\n<ul>\n	<li data-end="116" data-start="0">Meeting Called to Order &amp\; Presidential Welcome - 6:00 p.m.\n	<ul>\n		<li data-end="818" data-start="513">Ken Nelson\, Victory Homes of Wisconsin &amp\; 2025 MABA President</li>\n	</ul>\n	</li>\n	<li data-end="818" data-start="513">Unveiling MABA&#39\;s NEW Development &amp\; Building Resource Center&nbsp\;- 6:05 p.m.\n	<ul>\n		<li data-end="818" data-start="513">Chad Lawler\, Executive Director\, MABA</li>\n	</ul>\n	</li>\n	<li data-end="818" data-start="513">MABA Study: Residential Construction Fees by Municipality - 6:15 p.m.\n	<ul>\n		<li data-end="818" data-start="513">Matt Schreiner\, Director of Services/Principal\, Vierbicher</li>\n		<li data-end="818" data-start="513">Matthew Miller\, Urban Services Planner\, Vierbicher</li>\n		<li data-end="818" data-start="513">Andy Kurtz\, Planning and Community Development Manager\, Vierbicher</li>\n	</ul>\n	</li>\n	<li data-end="818" data-start="513">Special Guests: It&#39\;s Not Just Us! Common State &amp\; Local Issues Nationwide - 6:45 p.m.\n	<ul>\n		<li data-end="818" data-start="513">Karl Eckhart\, VP State &amp\; Local Government Affairs\, NAHB</li>\n		<li data-end="818" data-start="513">Lily Weatherby\, Director State &amp\; Local Government Affairs\, NAHB</li>\n		<li data-end="818" data-start="513">Bailey Thompson\, Director State &amp\; Local Government Affairs\, NAHB</li>\n	</ul>\n	</li>\n	<li data-end="818" data-start="513">Upcoming Events &amp\; Thank you - 7:15 p.m.</li>\n</ul>\n\n<p data-end="818" data-start="513">Both events are FREE TO ATTEND!</p>\n
LOCATION:
UID:e.9187.637
SEQUENCE:3
DTSTAMP:20260424T155121Z
URL:http://maba.memberzone.com/events/details/2025-educational-series-quarterly-membership-meeting-637
END:VEVENT

END:VCALENDAR
