BEGIN:VCALENDAR
VERSION:2.0
PRODID:-//ChamberMaster//Event Calendar 2.0//EN
METHOD:PUBLISH
X-PUBLISHED-TTL:P3D
REFRESH-INTERVAL:P3D
CALSCALE:GREGORIAN
BEGIN:VEVENT
DTSTART:20250129T220000Z
DTEND:20250129T230000Z
X-MICROSOFT-CDO-ALLDAYEVENT:FALSE
SUMMARY:2025 Education Series - OSHA Updates…don’t say we didn’t warn you!
DESCRIPTION:New Year\, New Focus: Navigate 2025 with Confidence and Compliance\n\nThe start of the year often brings new challenges and shifting priorities\, especially when it comes to staying on top of regulatory changes. Don't let concerns about compliance or economic uncertainty hold you back equip yourself with the tools and knowledge to succeed.\n\nJoin MABA and Jacob Krigbaum\, owner of Proven Solutions Corporation\, as he shares key updates and practical guidance to kick off 2025.\n\nTopics include:\n\n\n	OSHA's new fine amounts and upcoming initiatives\, programs\, or incentives.\n	Important deadlines\, such as the OSHA 300 Log\, and other critical regulatory updates.\n	Compliance insights for OSHA\, DOT\, MSHA\, and EPA requirements.\n\n\nThis session offers actionable steps to help your business stay ahead of regulatory changes and focused on growth. You'll leave with a clearer understanding of what to expect in 2025 and how to position your team for success.\n\nPlease join us for our quarterly membership meeting afterward!
X-ALT-DESC;FMTTYPE=text/html:<p><strong>New Year\, New Focus: Navigate 2025 with Confidence and Compliance</strong></p>\n\n<p>The start of the year often brings new challenges and shifting priorities\, especially when it comes to staying on top of regulatory changes. Don&rsquo\;t let concerns about compliance or economic uncertainty hold you back&mdash\;equip yourself with the tools and knowledge to succeed.</p>\n\n<p><strong>Join MABA and Jacob Krigbaum\, owner of Proven Solutions Corporation\, </strong>as he shares key updates and practical guidance to kick off 2025.</p>\n\n<p><strong>Topics include:</strong></p>\n\n<ul>\n	<li><strong>OSHA&rsquo\;s new fine amounts</strong> and upcoming initiatives\, programs\, or incentives.</li>\n	<li><strong>Important deadlines</strong>\, such as the OSHA 300 Log\, and other critical regulatory updates.</li>\n	<li><strong>Compliance insights</strong> for OSHA\, DOT\, MSHA\, and EPA requirements.</li>\n</ul>\n\n<p>This session offers actionable steps to help your business stay ahead of regulatory changes and focused on growth. You&rsquo\;ll leave with a clearer understanding of what to expect in 2025 and how to position your team for success.</p>\n\n<p><strong>Please join us for our quarterly membership meeting afterward!</strong></p>\n
LOCATION:The Lone Girl Brewing Company
UID:e.9187.610
SEQUENCE:3
DTSTAMP:20260425T004406Z
URL:http://maba.memberzone.com/events/details/2025-education-series-osha-updates-don-t-say-we-didn-t-warn-you-610
END:VEVENT

END:VCALENDAR
