BEGIN:VCALENDAR
VERSION:2.0
PRODID:-//ChamberMaster//Event Calendar 2.0//EN
METHOD:PUBLISH
X-PUBLISHED-TTL:P3D
REFRESH-INTERVAL:P3D
CALSCALE:GREGORIAN
BEGIN:VEVENT
DTSTART:20250305T153000Z
DTEND:20250305T223000Z
X-MICROSOFT-CDO-ALLDAYEVENT:FALSE
SUMMARY:2025 BuildX Women in the Construction Industry Conference
DESCRIPTION:It's the 4th Annual BuildX Women in the Construction Industry Conference!\n\n\n\nNetwork with women in the industry\, hear from job-site and business leaders\, and bring new ideas back to your daily routine!\n\n\n\nYou can find information about the speakers\, sessions\, schedule\, sponsors\, and to REGISTER on: www.buildxwisconsin.com
X-ALT-DESC;FMTTYPE=text/html:It&#39\;s the 4th Annual BuildX Women in the Construction Industry Conference!<br />\n<br />\nNetwork with women in the industry\, hear from job-site and business leaders\, and bring new ideas back to your daily routine!<br />\n<br />\nYou can find information about the speakers\, sessions\, schedule\, sponsors\, and to REGISTER on: <a href="http://www.buildxwisconsin.com">www.buildxwisconsin.com</a><br />\n&nbsp\;
LOCATION:Sheraton Milwaukee-Brookfield 375 S. Moorland\, Brookfield
UID:e.9187.618
SEQUENCE:3
DTSTAMP:20260424T214706Z
URL:http://maba.memberzone.com/events/details/2025-buildx-women-in-the-construction-industry-conference-618
END:VEVENT

END:VCALENDAR
