BEGIN:VCALENDAR
VERSION:2.0
PRODID:-//ChamberMaster//Event Calendar 2.0//EN
METHOD:PUBLISH
X-PUBLISHED-TTL:P3D
REFRESH-INTERVAL:P3D
CALSCALE:GREGORIAN
BEGIN:VEVENT
DTSTART:20250521T220000Z
DTEND:20250522T010000Z
X-MICROSOFT-CDO-ALLDAYEVENT:FALSE
SUMMARY:2025 Brew\, Brats & Builders
DESCRIPTION:RAIN OR SHINE WE'LL BE THERE!\n\n\n\nSpring is in full swing\, and what better way to celebrate than with brats\, brews\, and builder banter?\n\nJoin us for Brew\, Brats & Builders on May 21\, 2025\, at Wisconsin Brewing Company in Verona! We'll be soaking up the season on a private patio\, complete with our very own outdoor bar because nothing says "networking" like a cold drink in hand.\n\nRegistration includes delicious food (burgers and brats) and two drinks. \n\nPlease feel free to invite prospective members with you. This is the perfect opportunity to connect\, collaborate\, and show them why our events are the best in the association community.\n\nMark your calendar\, register today\, and "May" the brews be ever in your favor!
X-ALT-DESC;FMTTYPE=text/html:<p data-end="507" data-start="149"><strong><span style="color:#0000CD\;">RAIN OR SHINE WE&#39\;LL BE THERE!</span></strong><br />\n<br />\nSpring is in full swing\, and what better way to celebrate than with brats\, brews\, and <em>builder banter</em>?</p>\n\n<p data-end="507" data-start="149">Join us for <strong data-end="289" data-start="263">Brew\, Brats &amp\; Builders</strong> on <strong data-end="310" data-start="293">May 21\, 2025\,</strong> at <strong data-end="343" data-start="314">Wisconsin Brewing Company</strong> in Verona! We&rsquo\;ll be soaking up the season on a private patio\, complete with our very own outdoor bar because nothing says &quot\;networking&quot\; like a cold drink in hand.</p>\n\n<p data-end="618" data-start="509">Registration includes <strong data-end="569" data-start="536">delicious food (burgers and brats)&nbsp\;and two drinks.&nbsp\;</strong></p>\n\n<p data-end="796" data-start="620">Please feel free to invite prospective members with you. This is the perfect opportunity to connect\, collaborate\, and show them why our events are the best in the association community.</p>\n\n<p data-end="888" data-start="798"><strong data-end="883" data-start="801">Mark your calendar\, register today\, and &quot\;May&quot\; the brews be ever in your favor!</strong> &#127866\;&nbsp\;</p>\n
LOCATION:Wisconsin Brewing Company 1079 American Way\, Verona
UID:e.9187.624
SEQUENCE:3
DTSTAMP:20260424T200858Z
URL:http://maba.memberzone.com/events/details/2025-brew-brats-builders-624
END:VEVENT

END:VCALENDAR
