BEGIN:VCALENDAR
VERSION:2.0
PRODID:-//ChamberMaster//Event Calendar 2.0//EN
METHOD:PUBLISH
X-PUBLISHED-TTL:P3D
REFRESH-INTERVAL:P3D
CALSCALE:GREGORIAN
BEGIN:VEVENT
DTSTART:20251112T213000Z
DTEND:20251113T020000Z
X-MICROSOFT-CDO-ALLDAYEVENT:FALSE
SUMMARY:2025 Annual Membership Meeting & Educational Series: Tax Updates
DESCRIPTION:COME FOR THE TAX UPDATES.....STAY FOR THE MEMBERSHIP MEETING!\n\n\n\nJoin us for the MABA Educational Series: Tax Updates by Vesta CPA\n\n\n	3:30 - 3:45 p.m.: Registration\n	3:45 - 4:45 p.m.: Tax Updates by Vesta CPA's\n\n\nBusiness management often involves navigating ever-changing tax laws\, which can lead to overwhelming frustration and confusion. Get some important updates from Vesta CPA's to help guide your business into 2026 and beyond!\n\n\n\nKey Topics: \n\n\n	Brief Individual Tax Update\n	Business Tax Planning - Using the tax law to your advantage!\n	\n		Entity Structure - S-Corp v LLC\n		Timing of Expenses\n		Method of Accounting - Accrual v Cash\, Completed Contract\, Rental Real Estate\n		Loss years\n	\n	\n	 Q&A \n\n \n\n\nJoin us for the Annual Membership Meeting! \n\n\n\nAgenda: \n\n\n	5:00 - 5:30 p.m.: Registration & Happy Hour\n	5:30 p.m.: Call to Order & Welcome by Ken Nelson\, President\, MABA Board of Directors\n	5:35 p.m.: Coming soon!\n	6:20 p.m.: Association Updates by Chad Lawler\, Executive Director\, MABA\n	6:30 p.m.: WBA Report by Brad Boycks\, Executive Director\, WBA\n	6:40 p.m.: NAHB Report by Brian McKee\, Trustee\, NAHB \n	6:50 p.m.: 2026 Board Election Results by President\, Ken Nelson\n	7:00 - 8:00 p.m.: Social Hour & Networking\n\n\n\nIn addition to the latest updates on our association's strategic plan\, upcoming events\, and financial outlook\, you'll get food (prepared by Pat Schafer -- so likely some of her famous Peanut Butter and/or Bourbon Balls will make an appearance!)\, two free drinks\, announcements\, and valuable networking opportunities. \n\n\n\nWe look forward to seeing you there!
X-ALT-DESC;FMTTYPE=text/html:<p><span style="font-family: tahoma\;"><var><big><strong><span style="font-size:24px\;"><span style="color:#000080\;">COME FOR THE TAX UPDATES.....STAY FOR THE MEMBERSHIP MEETING!</span></span><br />\n<br />\nJoin us for the <span style="color: rgb(0\, 128\, 0)\;"><u>MABA Educational Series: Tax Updates</u> </span>by <a href="https://vesta.cpa/">Vesta CPA</a></strong></big></var></span></p>\n\n<ul>\n	<li><span style="font-family: tahoma\;"><var><big>3:30 - 3:45&nbsp\;p.m.: Registration</big></var></span></li>\n	<li><span style="font-family: tahoma\;"><var><big>3:45 - 4:45&nbsp\;p.m.: Tax Updates by Vesta CPA&#39\;s</big></var></span></li>\n</ul>\n\n<p><span style="font-family: tahoma\;"><var><big>Business management often involves navigating ever-changing tax laws\, which can lead to </big></var></span><span style="font-family: tahoma\; font-size: 15.6px\; font-style: italic\;">overwhelming frustration and confusion</span><span style="font-family: tahoma\;"><var><big>. Get some important updates from Vesta CPA&#39\;s to help guide your business into 2026 and beyond!</big></var></span><br />\n<br />\n<strong style="font-family: tahoma\; font-size: 15.6px\; font-style: italic\;">Key Topics:&nbsp\;</strong></p>\n\n<ul>\n	<li><span style="font-family: tahoma\;"><var><big>Brief Individual Tax Update</big></var></span></li>\n	<li><span style="font-family: tahoma\;"><var><big>Business Tax Planning - Using the tax law to your advantage!</big></var></span>\n	<ul>\n		<li><span style="font-family: tahoma\; font-size: 15.6px\; font-style: italic\;">Entity Structure - S-Corp v LLC</span></li>\n		<li><span style="font-family: tahoma\; font-size: 15.6px\; font-style: italic\;">Timing of Expenses</span></li>\n		<li><span style="font-family: tahoma\; font-size: 15.6px\; font-style: italic\;">Method of Accounting - Accrual v Cash\, Completed Contract\, Rental Real Estate</span></li>\n		<li><span style="font-family: tahoma\; font-size: 15.6px\; font-style: italic\;">Loss years</span></li>\n	</ul>\n	</li>\n	<li><span style="font-family: tahoma\; font-size: 15.6px\; font-style: italic\;">&#8203\;Q&amp\;A&nbsp\;</span></li>\n</ul>\n&nbsp\;\n\n<hr />\n<p><span style="font-family:tahoma\;"><var><big><strong>Join us for the&nbsp\;<span style="color:#008000\;"><u>Annual Membership Meeting</u>!&nbsp\;</span></strong></big></var></span><br />\n<br />\n<span style="font-family:tahoma\;"><var><big><strong>Agenda:&nbsp\;</strong></big></var></span></p>\n\n<ul>\n	<li><span style="font-family:tahoma\;"><var><big>5:00 - 5:30 p.m.: Registration &amp\; Happy Hour</big></var></span></li>\n	<li><span style="font-family:tahoma\;"><var><big>5:30 p.m.: Call to Order &amp\; Welcome by Ken Nelson\, President\, MABA Board of Directors</big></var></span></li>\n	<li><span style="font-family:tahoma\;"><var><big>5:35 p.m.: Coming soon!</big></var></span></li>\n	<li><span style="font-family:tahoma\;"><var><big>6:20 p.m.: Association Updates by&nbsp\;Chad Lawler\,&nbsp\;Executive Director\, MABA</big></var></span></li>\n	<li><span style="font-family:tahoma\;"><var><big>6:30 p.m.: WBA Report by Brad Boycks\,&nbsp\;Executive Director\, WBA</big></var></span></li>\n	<li><span style="font-family:tahoma\;"><var><big>6:40 p.m.: NAHB Report by Brian McKee\, Trustee\, NAHB&nbsp\;</big></var></span></li>\n	<li><span style="font-family:tahoma\;"><var><big>6:50 p.m.: 2026 Board Election Results by President\, Ken Nelson</big></var></span></li>\n	<li><span style="font-family:tahoma\;"><var><big>7:00&nbsp\;-&nbsp\;8:00&nbsp\;p.m.: Social Hour &amp\; Networking</big></var></span></li>\n</ul>\n\n<hr />\n<p><span style="font-family: tahoma\; font-size: 15.6px\; font-style: italic\;">In addition to the latest updates on our association&#39\;s strategic plan\, upcoming events\, and financial outlook\, you&#39\;ll get food (prepared by Pat Schafer -- so likely some of her famous Peanut Butter and/or Bourbon&nbsp\;Balls will make an appearance!)\, two free drinks\,&nbsp\;announcements\, and valuable networking opportunities.&nbsp\;<br />\n<br />\nWe look forward to seeing you there!</span><br />\n&nbsp\;</p>\n<scribe-shadow data-crx="okfkdaglfjjjfefdcppliegebpoegaii" id="crxjs-ext" style="position: fixed\; width: 0px\; height: 0px\; top: 0px\; left: 0px\; z-index: 2147483647\; overflow: visible\; visibility: visible\;"></scribe-shadow>
LOCATION:PARADIGM 1850 Deming Way\, Suite 120\, Middleton\, WI 53562
UID:e.9187.655
SEQUENCE:3
DTSTAMP:20260424T084208Z
URL:http://maba.memberzone.com/events/details/2025-annual-membership-meeting-educational-series-tax-updates-655
END:VEVENT

END:VCALENDAR
