BEGIN:VCALENDAR
VERSION:2.0
PRODID:-//ChamberMaster//Event Calendar 2.0//EN
METHOD:PUBLISH
X-PUBLISHED-TTL:P3D
REFRESH-INTERVAL:P3D
CALSCALE:GREGORIAN
BEGIN:VEVENT
DTSTART;VALUE=DATE:20240614
DTEND;VALUE=DATE:20240624
TRANSP:TRANSPARENT
X-MICROSOFT-CDO-ALLDAYEVENT:TRUE
SUMMARY:2024 Parade of Homes
DESCRIPTION:Whether you're ready to start building or just want to be inspired by the latest trends\, you can find inspiration and connect with building professionals at the 2024 Parade of Homes.\n\n\n\nGo to www.madisonparadeofhomes.com for more information.
X-ALT-DESC;FMTTYPE=text/html:<br />\n<em><span style="font-size:14px\;">Whether you&#39\;re ready to start building or just want to be inspired by the latest trends\, you can find inspiration and connect with building professionals at the 2024 Parade of Homes.<br />\n<br />\nGo to <a href="http://www.madisonparadeofhomes.com">www.madisonparadeofhomes.com</a> for more information.&nbsp\;</span></em>
LOCATION:
UID:e.9187.586
SEQUENCE:3
DTSTAMP:20260425T191458Z
URL:http://maba.memberzone.com/events/details/2024-parade-of-homes-586
END:VEVENT

END:VCALENDAR
