BEGIN:VCALENDAR
VERSION:2.0
PRODID:-//ChamberMaster//Event Calendar 2.0//EN
METHOD:PUBLISH
X-PUBLISHED-TTL:P3D
REFRESH-INTERVAL:P3D
CALSCALE:GREGORIAN
BEGIN:VEVENT
DTSTART:20240731T210000Z
DTEND:20240801T000000Z
X-MICROSOFT-CDO-ALLDAYEVENT:FALSE
SUMMARY:2024 Membership Meeting - July
DESCRIPTION:Eye on the Economy\n\n\nJoin nationally renowned economist\, Dr. Robert Dietz\, as he discusses the current and future economic and housing forecast. As you plan your operations for 2025 and beyond\, there is no more important presentation to attend and incorporate into your planning!\n\n\n\n4:00 Registration & Networking\n\n4:30 Welcome & Economic Forecast\n\n5:30 CARPC Update\n\n6:00 Networking & Happy Hour\n\n\n\nWe will have a happy hour in the Summit Credit Union "Be Well Cafe" after the presentation!
X-ALT-DESC;FMTTYPE=text/html:<p><span style="font-size:24px\;"><em><strong>Eye on the Economy</strong></em></span></p>\n\n<div>\n<p>Join nationally renowned economist\, Dr. Robert Dietz\, as he discusses the current and future economic and housing forecast. As you plan your operations for 2025 and beyond\, there is no more important presentation to attend and incorporate into your planning!<br />\n<br />\n4:00 Registration &amp\; Networking<br />\n4:30 Welcome &amp\; Economic Forecast<br />\n5:30 CARPC Update<br />\n6:00 Networking &amp\; Happy Hour<br />\n<br />\nWe will have a happy hour in the Summit Credit Union &quot\;Be Well Cafe&quot\; after the presentation!</p>\n</div>\n
LOCATION:Summit Credit Union Headquarters 1709 Landmark Drive\, Cottage Grove
UID:e.9187.588
SEQUENCE:3
DTSTAMP:20260425T174243Z
URL:http://maba.memberzone.com/events/details/2024-membership-meeting-july-588
END:VEVENT

END:VCALENDAR
