BEGIN:VCALENDAR
VERSION:2.0
PRODID:-//ChamberMaster//Event Calendar 2.0//EN
METHOD:PUBLISH
X-PUBLISHED-TTL:P3D
REFRESH-INTERVAL:P3D
CALSCALE:GREGORIAN
BEGIN:VEVENT
DTSTART:20240410T220000Z
DTEND:20240411T000000Z
X-MICROSOFT-CDO-ALLDAYEVENT:FALSE
SUMMARY:2024 Membership Meeting - April
DESCRIPTION:Visit Camp Randall & learn about UW's name\, image\, likeness (NIL) opportunities!\n\n \n\n\n	MABA Update\n	NIL Branding with Brian Mason\, Wisconsin Athletics Director of Name\, Image\, Likeness Strategy\n	Special Guest Speaker\, Wisconsin Football Coach Luke Fickell\n\n\nDoors will open at 4:30pm and the program will start at 5:15pm.\n\n\n\nGuests should enter the facility through Gate 1 (1440 Monroe Street). Free guest parking is available after 4:30pm in Lot 19\, located at the corner of Regent Street and Breese Terrace. 2-hour street parking is also available on Breese Terrace and in the surrounding neighborhood (controlled until 6pm). Additional hourly visitor parking can be found in Lot 17 on Engineering Drive.\n\n\n\nIncludes 2 drinks & appetizers!\n \n\nLIMITED TO THE FIRST 100 REGISTRANTS\n\nFor members with more than six people wishing to attend\, please contact MABA before submitting your registration.
X-ALT-DESC;FMTTYPE=text/html:<div century="" color:="" font-size:="" style="font-family: "><span style="font-size:18px\;"><b>Visit Camp Randall &amp\; learn about&nbsp\;UW&#39\;s&nbsp\;name\, image\, likeness (NIL) opportunities!</b></span><br />\n&nbsp\;</div>\n\n<ul>\n	<li century="" color:="" font-size:="" style="font-family: ">MABA Update</li>\n	<li century="" color:="" font-size:="" style="font-family: ">NIL Branding with Brian Mason\, Wisconsin Athletics Director of Name\, Image\, Likeness Strategy</li>\n	<li century="" color:="" font-size:="" style="font-family: ">Special Guest Speaker\, Wisconsin Football Coach Luke Fickell</li>\n</ul>\n\n<div century="" color:="" font-size:="" style="font-family: "><span style="font-size:18px\;"><strong>Doors will open at 4:30pm and the program will start at 5:15pm.</strong></span><br />\n<br style="font-family: Helvetica\; font-size: 12px\;" />\n<span style="font-size:14px\;"><span style="caret-color: rgb(34\, 34\, 34)\; color: rgb(34\, 34\, 34)\; font-family: Arial\, Helvetica\, sans-serif\;">Guests should enter the facility through Gate 1 (1440 Monroe Street). Free guest parking is available after 4:30pm in Lot 19\, located at the corner of Regent Street and Breese Terrace. 2-hour street parking is also available on Breese Terrace and in the surrounding neighborhood (controlled until 6pm). Additional hourly visitor parking can be found in Lot 17 on Engineering Drive.</span></span><br />\n<br />\nIncludes 2 drinks &amp\; appetizers!\n<p style="margin: 0px\; font-style: normal\; font-variant-caps: normal\; font-stretch: normal\; font-size: 12px\; line-height: normal\; font-family: Helvetica\; font-size-adjust: none\; font-kerning: auto\; font-variant-alternates: normal\; font-variant-ligatures: normal\; font-variant-numeric: normal\; font-variant-east-asian: normal\; font-variant-position: normal\; font-variant-emoji: normal\; font-feature-settings: normal\; font-optical-sizing: auto\; font-variation-settings: normal\;">&nbsp\;</p>\n\n<div style="margin: 0px\; font-style: normal\; font-variant-caps: normal\; font-stretch: normal\; font-size: 12px\; line-height: normal\; font-family: Helvetica\; font-size-adjust: none\; font-kerning: auto\; font-variant-alternates: normal\; font-variant-ligatures: normal\; font-variant-numeric: normal\; font-variant-east-asian: normal\; font-variant-position: normal\; font-variant-emoji: normal\; font-feature-settings: normal\; font-optical-sizing: auto\; font-variation-settings: normal\;">LIMITED TO THE FIRST 100 REGISTRANTS</div>\n\n<div style="margin: 0px\; font-style: normal\; font-variant-caps: normal\; font-stretch: normal\; font-size: 12px\; line-height: normal\; font-family: Helvetica\; font-size-adjust: none\; font-kerning: auto\; font-variant-alternates: normal\; font-variant-ligatures: normal\; font-variant-numeric: normal\; font-variant-east-asian: normal\; font-variant-position: normal\; font-variant-emoji: normal\; font-feature-settings: normal\; font-optical-sizing: auto\; font-variation-settings: normal\;">For members with more than six people wishing to attend\, please contact MABA before submitting your registration.</div>\n</div>\n
LOCATION:Camp Randall - Victory Hall 1440 Monroe Street\, Madison Guests should enter the facility through Gate 1 (1440 Monroe Street). Free guest parking is available after 4:30pm in Lot 19\, located at the corner of Regent Street and Breese Terrace. 2-hour street parking is also available on Breese Terrace and in the surrounding neighborhood (controlled until 6pm). Additional hourly visitor parking can be found in Lot 17 on Engineering Drive.
UID:e.9187.578
SEQUENCE:3
DTSTAMP:20260426T000906Z
URL:http://maba.memberzone.com/events/details/2024-membership-meeting-april-578
END:VEVENT

END:VCALENDAR
