BEGIN:VCALENDAR
VERSION:2.0
PRODID:-//ChamberMaster//Event Calendar 2.0//EN
METHOD:PUBLISH
X-PUBLISHED-TTL:P3D
REFRESH-INTERVAL:P3D
CALSCALE:GREGORIAN
BEGIN:VEVENT
DTSTART:20240321T190000Z
DTEND:20240322T000000Z
X-MICROSOFT-CDO-ALLDAYEVENT:FALSE
SUMMARY:2024 March Madness @ Elite A/V & Automation
DESCRIPTION:Elite A/V & Automation has agreed to host our annual NCAA March Madness viewing party festivities for the 5th year!\n\n\n\nWork on your golf swing\, shoot some pool\, lounge in a massage chair\, or just watch a game or two while enjoying free food and drinks!\n\n\n\nHunter Wohler & Jack Nelson from UW Football will be joining us to mingle and watch basketball from 4-6pm!\n\n\n\nCome and go as you please.
X-ALT-DESC;FMTTYPE=text/html:<h2><span style="font-family:tahoma\;"><span style="font-size:20px\;"><strong>Elite A/V &amp\; Automation has agreed to host our annual NCAA March Madness viewing party festivities for the 5th year!<br />\n<br />\nWork on your golf swing\, shoot some pool\, lounge in a massage chair\, or just watch a game or two while enjoying free food and drinks!<br />\n<br />\nHunter Wohler &amp\; Jack Nelson from UW Football will be joining us&nbsp\;to mingle and watch basketball from 4-6pm!<br />\n<br />\nCome and go as you please.</strong></span></span></h2>\n
LOCATION:Elite A/V & Automation 4001 Felland Road\, Madison
UID:e.9187.577
SEQUENCE:3
DTSTAMP:20260426T014951Z
URL:http://maba.memberzone.com/events/details/2024-march-madness-elite-a-v-automation-577
END:VEVENT

END:VCALENDAR
