BEGIN:VCALENDAR
VERSION:2.0
PRODID:-//ChamberMaster//Event Calendar 2.0//EN
METHOD:PUBLISH
X-PUBLISHED-TTL:P3D
REFRESH-INTERVAL:P3D
CALSCALE:GREGORIAN
BEGIN:VEVENT
DTSTART:20241205T230000Z
DTEND:20241206T030000Z
X-MICROSOFT-CDO-ALLDAYEVENT:FALSE
SUMMARY:2024 MABA Holiday Party
DESCRIPTION:Get ready to Jingle & Mingle!\n\n\n\nJoin us for the MABA Annual Holiday Party! Help us celebrate the season and install the 2025 President and Board of Directors. \n\n\n\n2024 Achievement Awards Presentations\n\n\n	\n	Builder of the Year\n	\n	\n	Associate of the Year\n	\n	Volunteer of the Year\n\n\n Registration fee includes 2 drinks\, appetizers\, and a jolly good time!
X-ALT-DESC;FMTTYPE=text/html:<h2 style="font-style:italic\;">&nbsp\;<br />\nGet ready to Jingle &amp\; Mingle!</h2>\n\n<p><br />\n<span style="font-size:14px\;">Join us for the MABA Annual Holiday Party! Help us celebrate the season and install the 2025&nbsp\;President and Board of Directors.&nbsp\;<br />\n<br />\n<u>2024&nbsp\;Achievement Awards Presentations</u></span></p>\n\n<ul>\n	<li>\n	<p><span style="font-size:14px\;">Builder of the Year</span></p>\n	</li>\n	<li>\n	<p><span style="font-size:14px\;">Associate of the Year</span></p>\n	</li>\n	<li><span style="font-size:14px\;">Volunteer of the Year</span></li>\n</ul>\n\n<p><span style="font-size:14px\;">&#8203\;Registration fee includes 2 drinks\, appetizers\, and a jolly good time!</span></p>\n
LOCATION:Lake Windsor Country Club 4628 Golf Drive\, Windsor
UID:e.9187.600
SEQUENCE:3
DTSTAMP:20260425T023450Z
URL:http://maba.memberzone.com/events/details/2024-maba-holiday-party-600
END:VEVENT

END:VCALENDAR
