BEGIN:VCALENDAR
VERSION:2.0
PRODID:-//ChamberMaster//Event Calendar 2.0//EN
METHOD:PUBLISH
X-PUBLISHED-TTL:P3D
REFRESH-INTERVAL:P3D
CALSCALE:GREGORIAN
BEGIN:VEVENT
DTSTART:20240509T210000Z
DTEND:20240509T230000Z
X-MICROSOFT-CDO-ALLDAYEVENT:FALSE
SUMMARY:2024 MABA Happy Hour - Hosted by Marling Lumber & HomeWorks
DESCRIPTION:Who doesn't love a drink with fellow industry peers after work?\n\n\nJoin us for refreshments at the Marling Lumber & HomeWorks showroom and help them celebrate 120 years of business!\n\n613 Atlas Ave\, Madison\, WI 53714
X-ALT-DESC;FMTTYPE=text/html:<h2 style="font-style:italic\;">&nbsp\;</h2>\n\n<p><strong style="font-size: 18px\;"><span background-color:="" trebuchet="">Who doesn&#39\;t love a drink with fellow industry peers after work?</span></strong></p>\n<br />\n<span style="font-size:18px\;"><strong><span background-color:="" style="color: rgb(51\, 51\, 51)\; font-family: sans-serif\, Arial\, Verdana\, " trebuchet="">Join us for refreshments at the Marling Lumber &amp\; HomeWorks showroom and help them celebrate 120 years of business!</span></strong><br />\n613 Atlas Ave\, Madison\, WI 53714</span>
LOCATION:Marling Showroom 613 Atlas Ave Madison\, WI 53714
UID:e.9187.590
SEQUENCE:3
DTSTAMP:20260425T222141Z
URL:http://maba.memberzone.com/events/details/2024-maba-happy-hour-hosted-by-marling-lumber-homeworks-590
END:VEVENT

END:VCALENDAR
