BEGIN:VCALENDAR
VERSION:2.0
PRODID:-//ChamberMaster//Event Calendar 2.0//EN
METHOD:PUBLISH
X-PUBLISHED-TTL:P3D
REFRESH-INTERVAL:P3D
CALSCALE:GREGORIAN
BEGIN:VEVENT
DTSTART:20240814T210000Z
DTEND:20240815T000000Z
X-MICROSOFT-CDO-ALLDAYEVENT:FALSE
SUMMARY:2024 MABA Happy Hour - Hosted by Gerhard's
DESCRIPTION:Who doesn't love a drink with fellow industry peers after work?\n\n\nJoin us for food and beverages hosted by Gerhard's First Supply!
X-ALT-DESC;FMTTYPE=text/html:<h2 style="font-style:italic\;">&nbsp\;</h2>\n\n<p><strong style="font-size: 18px\;"><span background-color:="" trebuchet="">Who doesn&#39\;t love a drink with fellow industry peers after work?</span></strong></p>\n<br />\n<span style="font-size:18px\;"><strong><span background-color:="" style="color: rgb(51\, 51\, 51)\; font-family: sans-serif\, Arial\, Verdana\, " trebuchet="">Join us for food and beverages hosted by Gerhard&#39\;s First Supply!</span></strong></span>
LOCATION:Gerhard's Kitchen Bath & Lighting Store
UID:e.9187.589
SEQUENCE:3
DTSTAMP:20260425T161216Z
URL:http://maba.memberzone.com/events/details/2024-maba-happy-hour-hosted-by-gerhard-s-589
END:VEVENT

END:VCALENDAR
