BEGIN:VCALENDAR
VERSION:2.0
PRODID:-//ChamberMaster//Event Calendar 2.0//EN
METHOD:PUBLISH
X-PUBLISHED-TTL:P3D
REFRESH-INTERVAL:P3D
CALSCALE:GREGORIAN
BEGIN:VEVENT
DTSTART:20240828T210000Z
DTEND:20240829T000000Z
X-MICROSOFT-CDO-ALLDAYEVENT:FALSE
SUMMARY:2024 MABA Happy Hour - Hosted by Bliffert Lumber & Design
DESCRIPTION:Who doesn't love a drink with fellow industry peers after work? Join us for refreshments at Bliffert Lumber & Design!\n\n \n\nYou're invited to celebrate Bliffert Lumber and Design's newly renovated showroom in Sun Prairie!\n\n\n\nIndulge in complimentary appetizers and drinks as you explore our beautifully remodeled space. Plus\, a vast array of vendor representatives to discuss products and win gifts!\n\n\n\nCheck out our Vendors: Andersen\, Linsday\, Marvin\, Weather Shield\, Timber Tech Azek\, Trex\, Western Building Products\, CertainTeed\, Richco/GL Trusses and Wall Panels\, Cut In Stone\, Huber Engineered Woods\, Roseburg
X-ALT-DESC;FMTTYPE=text/html:<h2 style="font-style:italic\;"><strong><em><span style="font-family:calibri\,sans-serif\;"><span style="font-size:18.0pt\;">Who doesn&#39\;t love a drink with fellow industry peers after work?&nbsp\;Join us for refreshments at Bliffert Lumber &amp\; Design!</span></span></em></strong><br />\n&nbsp\;<br />\n<span style="font-family:calibri\,sans-serif\;"><span style="font-size:16.0pt\;">You&#39\;re invited to celebrate Bliffert Lumber and Design&#39\;s newly renovated showroom in Sun Prairie!</span></span><br />\n<br />\n<span style="font-family:calibri\,sans-serif\;"><span style="font-size:16.0pt\;">Indulge in complimentary appetizers and drinks as you explore our beautifully remodeled space. Plus\, a vast array of vendor representatives to discuss products and win gifts!<br />\n<br />\nCheck out our Vendors: Andersen\, Linsday\, Marvin\, Weather Shield\, Timber Tech Azek\, Trex\, Western Building Products\, CertainTeed\, Richco/GL Trusses and Wall Panels\, Cut In Stone\, Huber Engineered Woods\, Roseburg</span></span></h2>\n
LOCATION:2175 McCoy Road Sun Prairie\, WI
UID:e.9187.591
SEQUENCE:3
DTSTAMP:20260425T144434Z
URL:http://maba.memberzone.com/events/details/2024-maba-happy-hour-hosted-by-bliffert-lumber-design-591
END:VEVENT

END:VCALENDAR
