BEGIN:VCALENDAR
VERSION:2.0
PRODID:-//ChamberMaster//Event Calendar 2.0//EN
METHOD:PUBLISH
X-PUBLISHED-TTL:P3D
REFRESH-INTERVAL:P3D
CALSCALE:GREGORIAN
BEGIN:VEVENT
DTSTART:20240911T143000Z
DTEND:20240912T000000Z
X-MICROSOFT-CDO-ALLDAYEVENT:FALSE
SUMMARY:2024 MABA Golf Outing Presented by Baer Insurance and Frankenmuth Insurance
DESCRIPTION:GOLF OUTING IS SOLD OUT!\n\nWe are excited to be hosting this years golf outing\, presented by Baer Insurance and Frankenmuth Insurance\, at Pleasant View Golf Course on September 11\, 2024. Situated on hills approximately 300 feet above Lake Mendota\, Pleasant View Golf Course provides a panoramic view of the City of Madison. \n\n\n	\n	9:30 AM Registration & Bloody Mary Bar Starts [NOTE: earlier start time!]\n	\n	\n	11:00 AM Shotgun Start\n	\n	\n	4:00 PM After-Party Starts\n	\n\n\nRegistration includes 18 holes of golf with cart\, hot lunch at the turn\, Bloody Mary\, and 2 drink tickets.\n\n\n\nInterested in sponsorship opportunities? Contact Lisa at lkratz@maba.org or 608-288-1134 to sign up!
X-ALT-DESC;FMTTYPE=text/html:<p><span style="font-size:20px\;"><span style="color:#FF0000\;"><strong>GOLF OUTING IS SOLD OUT!</strong></span></span></p>\n\n<h2><span style="font-size:18px\;"><span style="font-family:arial\;">We are excited to be hosting this years golf outing\, presented by <a href="http://www.baerinsurance.com"><span style="color:#0000CD\;">Baer Insurance</span></a> and <a href="http://www.fmins.com"><span style="color:#0000CD\;">Frankenmuth Insurance</span></a>\, at Pleasant View Golf Course on September 11\, 2024. Situated on hills approximately 300 feet above Lake Mendota\, Pleasant View Golf Course provides a panoramic view of the City of Madison.&nbsp\;</span></span></h2>\n\n<ul>\n	<li>\n	<p><span style="font-family: arial\;">9:30 AM Registration &amp\; Bloody Mary Bar Starts <span style="background-color:#00FFFF\;">[NOTE: earlier start time!]</span></span></p>\n	</li>\n	<li>\n	<p><span style="font-family: arial\;">11:00 AM Shotgun Start</span></p>\n	</li>\n	<li>\n	<p><span style="font-family: arial\;">4:00 PM After-Party Starts</span></p>\n	</li>\n</ul>\n\n<p>Registration includes 18 holes of golf with cart\, hot lunch at the turn\, Bloody Mary\, and 2 drink tickets.<br />\n<br />\n<span style="font-family: arial\;">Interested in sponsorship opportunities? Contact Lisa at lkratz@maba.org or <a href="tel:608-288-1134">608-288-1134</a> to sign up!</span></p>\n
LOCATION:Pleasant View Golf Course 1322 N Pleasant View Rd Middleton\, WI 53562
UID:e.9187.593
SEQUENCE:3
DTSTAMP:20260425T143713Z
URL:http://maba.memberzone.com/events/details/2024-maba-golf-outing-presented-by-baer-insurance-and-frankenmuth-insurance-593
END:VEVENT

END:VCALENDAR
