BEGIN:VCALENDAR
VERSION:2.0
PRODID:-//ChamberMaster//Event Calendar 2.0//EN
METHOD:PUBLISH
X-PUBLISHED-TTL:P3D
REFRESH-INTERVAL:P3D
CALSCALE:GREGORIAN
BEGIN:VEVENT
DTSTART:20240722T143000Z
DTEND:20240722T230000Z
X-MICROSOFT-CDO-ALLDAYEVENT:FALSE
SUMMARY:2024 MABA Foundation Golf Outing Presented by Pella Windows & Doors of Wisconsin
DESCRIPTION:FOURSOMES SOLD OUT!\n\nA few Sponsorships are still available\n\n\n\nJoin us at the 2024 MABA Foundation Golf Outing ("Scullion Scramble")\, presented by Pella Windows & Doors of Wisconsin\, held at TPC Wisconsin on July 22\, 2024.\n\n\n	\n	9:30 AM Registration & Bloody Mary Bar Opens\n	\n	\n	11:00 AM Shotgun Start\n	\n	\n	4:30 PM After-Party starts\n	\n\n\nRegistration includes 18 holes of golf with cart\, box lunch\, Bloody Mary\, and 2 drink tickets.\n\n\n\nSPONSORSHIPS STILL AVAILABLE: Lunch | Registration | Hole (a couple remain!) | Tee Gift\n\n Contact Lisa Kratz to claim your sponsorship at lkratz@maba.org.\n\n\n\nDress Code:\n\nAll guests\, volunteers\, and vendors associated with the event are expected to adhere to the Club's dress code policies. Specifically\, acceptable golf attire\, which includes a collared shirt\, slacks\, or Bermuda length shorts. Denim of any kind\, t-shirts\, tank tops\, cutoffs\, tennis\, running or other athletic attire are inappropriate forms of dress for both the clubhouse and the golf course. Any person not properly attired will not be allowed to play or participate in the event until their dress meets the Club's dress code standards. The use of non-metal spikes is required on the golf course at all times.\n\n\n\nThe MABA Foundation is a charitable organization who's mission is to provide charitable relief to those in need by supporting community charitable organizations that -- promote the building industry as an excellent career choice\, encourage ongoing training for professionals in the industry as well as the home buying public\, and support research that furthers the advancement of the industry.
X-ALT-DESC;FMTTYPE=text/html:<h1><span style="font-size:28px\;"><span style="font-family:arial\;"><strong><span style="color:#B22222\;">FOURSOMES SOLD OUT!<br />\nA few Sponsorships are still available</span></strong></span></span></h1>\n\n<h3><br />\n<span style="font-size:14px\;"><span style="font-family:arial\;">Join us at the 2024 MABA Foundation Golf Outing (&quot\;Scullion Scramble&quot\;)\, presented by <a href="http://pellawi.com"><font color="#0000cd">Pella Windows &amp\; Doors of Wisconsin</font></a>\,&nbsp\;held at TPC Wisconsin on July 22\, 2024.</span></span></h3>\n\n<ul>\n	<li>\n	<p><span style="font-size:14px\;"><span style="font-family:arial\;">9:30 AM Registration &amp\; Bloody Mary Bar Opens</span></span></p>\n	</li>\n	<li>\n	<p><span style="font-size:14px\;"><span style="font-family:arial\;">11:00 AM Shotgun Start</span></span></p>\n	</li>\n	<li>\n	<p><span style="font-size:14px\;"><span style="font-family:arial\;">4:30 PM After-Party starts</span></span></p>\n	</li>\n</ul>\n\n<p><font face="arial"><span style="font-size: 14px\;">Registration includes 18 holes of golf with cart\, box&nbsp\;lunch\, Bloody Mary\, and 2&nbsp\;drink tickets.</span></font><br />\n<br />\n<strong style="font-family: arial\; font-size: 14px\;">SPONSORSHIPS STILL AVAILABLE:&nbsp\;</strong><font face="arial"><span style="font-size: 14px\;">Lunch | Registration | Hole (a couple remain!) | Tee Gift</span></font><br />\n<font face="arial"><span style="font-size: 14px\;">&#8203\;Contact Lisa Kratz&nbsp\;to claim your sponsorship at <a href="mailto:lkratz@maba.org?subject=MABA%20Foundation%20Golf%20Outing%20Sponsorship">lkratz@maba.org</a>.</span></font><br />\n<br />\n<strong style="color: rgb(178\, 34\, 34)\; font-family: arial\; font-size: 14px\;">Dress Code</strong><span background-color:="" helvetica="" style="color: rgb(178\, 34\, 34)\; font-family: arial\; font-size: 14px\;">:</span><br />\n<span style="font-size:10px\;"><span style="font-family:arial\;">All guests\, volunteers\, and vendors associated with the event are expected to adhere to the Club&rsquo\;s dress code policies. Specifically\, acceptable golf attire\, which includes a collared shirt\, slacks\, or Bermuda length shorts. Denim of any kind\, t-shirts\, tank tops\, cutoffs\, tennis\, running or other athletic attire are inappropriate forms of dress for both the clubhouse and the golf course. Any person not properly attired will not be allowed to play or participate in the event until their dress meets the Club&rsquo\;s dress code standards. The use of non-metal spikes is required on the golf course at all times.</span></span><br />\n<br />\n<span style="font-size:14px\;"><span style="font-family:arial\;"><span style="font-size:12px\;"><em>The MABA Foundation is a charitable organization who&#39\;s mission is to provide charitable relief to those in need by supporting community charitable organizations that -- promote the building industry as an excellent career choice\, encourage ongoing training for professionals in the industry as well as the home buying public\, and support research that furthers the advancement of the industry.</em></span></span></span><br />\n&nbsp\;</p>\n
LOCATION:TPC Wisconsin 5000 N Sherman Ave\, Madison\, WI 53704
UID:e.9187.587
SEQUENCE:3
DTSTAMP:20260425T191458Z
URL:http://maba.memberzone.com/events/details/2024-maba-foundation-golf-outing-presented-by-pella-windows-doors-of-wisconsin-587
END:VEVENT

END:VCALENDAR
