BEGIN:VCALENDAR
VERSION:2.0
PRODID:-//ChamberMaster//Event Calendar 2.0//EN
METHOD:PUBLISH
X-PUBLISHED-TTL:P3D
REFRESH-INTERVAL:P3D
CALSCALE:GREGORIAN
BEGIN:VEVENT
DTSTART:20241029T163000Z
DTEND:20241029T210000Z
X-MICROSOFT-CDO-ALLDAYEVENT:FALSE
SUMMARY:2024 Fall Sporting Clays
DESCRIPTION:Participate in our Fifth annual Fall Sporting Clay Classic!\n\n\nThe Sporting Clay Classic will be at Milford Hills in Johnson Creek\, one of the premier hunt clubs in the Midwest - a destination for shooters and hunters! Shoot a round of 50 targets\, in teams of four\, on a beautifully laid-out course. There are 18 different stations from which targets are thrown on a variety of trajectories with different angles\, speeds\, elevations and distances.\n\n\n\nThe registration fee includes BBQ lunch\, clay course\, 2 boxes of shells per shooter\, and after-shoot drink and appetizers.\n\n\n\nStation sponsorships are available! Not ready to pull the trigger just yet? Call Lisa Kratz to discuss at lkratz@maba.org or (608) 288-1134.\n\n\n\nDo not wait until the last minute to register! Milford Hills requires the number in our group confirmed well in advance. Register now and provide names at a later date.  No team? No problem. Register as an individual and we'll coordinate.\n\n\n\nGUN BOARD (RAFFLE):\n\n2 drawings\, 2 winners\n\nTickets are $20/each \n\nBuy 5 tickets\, get 2 free!
X-ALT-DESC;FMTTYPE=text/html:<h3><br />\n<strong><span style="font-size:16px\;"><span style="font-family:arial\;">Participate in our Fifth annual Fall Sporting Clay Classic!</span></span></strong></h3>\n<br />\n<span style="font-size:14px\;"><span style="font-family:arial\;">The Sporting Clay Classic will be at&nbsp\;<a href="http://milfordhills.com/" style="font-size: 13px\;" target="_blank">Milford Hills</a>&nbsp\;in Johnson Creek\,&nbsp\;one of the premier hunt clubs in the Midwest - a destination for shooters and hunters! Shoot a round of 50 targets\, in teams of four\, on a beautifully laid-out course. There are 18 different stations from which targets are thrown on a variety of trajectories with different angles\, speeds\, elevations and distances.<br />\n<br />\nThe registration fee includes BBQ lunch\, clay course\, 2 boxes of shells per shooter\, and after-shoot drink and appetizers.<br />\n<br />\nStation sponsorships are available! Not ready to pull the trigger just yet? Call Lisa Kratz to discuss at lkratz@maba.org or&nbsp\;<a href="tel:(608) 288-1136">(608) 288-1134</a>.<br />\n<br />\nDo not wait until the last minute to register! Milford Hills requires the number in our group confirmed well in advance.&nbsp\;Register&nbsp\;now and provide names at a later date.&nbsp\; No team? No problem. Register as an individual and we&#39\;ll coordinate.<br />\n<br />\n<strong><u>GUN BOARD (RAFFLE)</u>:</strong><br />\n2 drawings\, 2 winners<br />\nTickets are $20/each&nbsp\;<br />\nBuy 5 tickets\, get 2 free!</span></span>
LOCATION:Milford Hills W5670 French Road\, Johnson Creek\, WI 53038
UID:e.9187.601
SEQUENCE:3
DTSTAMP:20260425T123741Z
URL:http://maba.memberzone.com/events/details/2024-fall-sporting-clays-601
END:VEVENT

END:VCALENDAR
