BEGIN:VCALENDAR
VERSION:2.0
PRODID:-//ChamberMaster//Event Calendar 2.0//EN
METHOD:PUBLISH
X-PUBLISHED-TTL:P3D
REFRESH-INTERVAL:P3D
CALSCALE:GREGORIAN
BEGIN:VEVENT
DTSTART:20240502T210000Z
DTEND:20240503T000000Z
X-MICROSOFT-CDO-ALLDAYEVENT:FALSE
SUMMARY:2024 Cinco (Dos) de Mayo
DESCRIPTION:Join MABA members for Cinco (Dos) de Mayo\, sponsored by Pella Windows & Doors of Wisconsin and Smart Growth Greater Madison!\n\n\n\nStop in Pella's showroom for food\, margaritas and networking!
X-ALT-DESC;FMTTYPE=text/html:<h4>&nbsp\;</h4>\n<span style="font-size:18px\;"><span style="font-family:arial\;">Join MABA&nbsp\;members for Cinco (Dos)&nbsp\;de Mayo\, sponsored by <strong>Pella Windows &amp\; Doors of Wisconsin</strong> and <strong><span style="caret-color: rgb(34\, 34\, 34)\; color: rgb(34\, 34\, 34)\;">Smart Growth Greater Madison</span></strong>!<br />\n<br />\nStop in Pella&#39\;s&nbsp\;showroom for food\, margaritas and networking!&nbsp\;</span></span>
LOCATION:Pella Windows & Doors of Wisconsin 2101 West Beltline Hwy Madison\, WI
UID:e.9187.582
SEQUENCE:3
DTSTAMP:20260425T221455Z
URL:http://maba.memberzone.com/events/details/2024-cinco-dos-de-mayo-582
END:VEVENT

END:VCALENDAR
