BEGIN:VCALENDAR
VERSION:2.0
PRODID:-//ChamberMaster//Event Calendar 2.0//EN
METHOD:PUBLISH
X-PUBLISHED-TTL:P3D
REFRESH-INTERVAL:P3D
CALSCALE:GREGORIAN
BEGIN:VEVENT
DTSTART:20240807T120000Z
DTEND:20240807T133000Z
X-MICROSOFT-CDO-ALLDAYEVENT:FALSE
SUMMARY:2024 Builder Only Breakfast with Structis
DESCRIPTION:Builder Only Breakfast - Hosted by Structis Construction Solutions Group\n\n\n\nMABA Builder Members are invited to join us for a free breakfast\, networking\, and a discussion of issues they are facing (product delays\, workforce\, etc.).
X-ALT-DESC;FMTTYPE=text/html:<br />\n<span style="font-size:18px\;"><strong>Builder Only Breakfast - Hosted by Structis Construction Solutions Group</strong></span><br />\n<br />\n<span style="color: rgb(0\, 0\, 0)\;"><u><em>MABA Builder Members</em></u> are invited to join us for a free breakfast\, networking\, and a discussion of issues they are facing (product delays\, workforce\, etc.).</span><br />\n<br />\n&nbsp\;
LOCATION:Pancake Cafe - Fitchburg 6220 Nesbitt Rd Fitchburg
UID:e.9187.603
SEQUENCE:3
DTSTAMP:20260425T160828Z
URL:http://maba.memberzone.com/events/details/2024-builder-only-breakfast-with-structis-603
END:VEVENT

END:VCALENDAR
