BEGIN:VCALENDAR
VERSION:2.0
PRODID:-//ChamberMaster//Event Calendar 2.0//EN
METHOD:PUBLISH
X-PUBLISHED-TTL:P3D
REFRESH-INTERVAL:P3D
CALSCALE:GREGORIAN
BEGIN:VEVENT
DTSTART:20240522T220000Z
DTEND:20240523T010000Z
X-MICROSOFT-CDO-ALLDAYEVENT:FALSE
SUMMARY:2024 Brew\, Brats & Builders
DESCRIPTION:Make plans to attend this year's Brew\, Brats & Builders event on May 22\, 2024 at Wisconsin Brewing Company in Verona! We will enjoy brats\, brews and great conversations on the private patio with our own outdoor bar.\n\n\n\nRegistration includes food and two drinks.\n\nPlease feel free to invite prospective members to network and experience our awesome MABA events!
X-ALT-DESC;FMTTYPE=text/html:<p>Make plans to attend this year&#39\;s Brew\, Brats &amp\; Builders event on May 22\, 2024 at Wisconsin Brewing Company in Verona!&nbsp\;We will enjoy brats\, brews and great conversations&nbsp\;on the private patio&nbsp\;with our own outdoor bar.<br />\n<br />\nRegistration includes food and two drinks.</p>\n\n<div><span style="line-height:1.6em">Please feel free to&nbsp\;invite prospective members to network and experience our awesome MABA events!</span></div>\n
LOCATION:Wisconsin Brewing Company 1079 American Way Verona\, WI
UID:e.9187.584
SEQUENCE:3
DTSTAMP:20260426T001730Z
URL:http://maba.memberzone.com/events/details/2024-brew-brats-builders-584
END:VEVENT

END:VCALENDAR
