BEGIN:VCALENDAR
VERSION:2.0
PRODID:-//ChamberMaster//Event Calendar 2.0//EN
METHOD:PUBLISH
X-PUBLISHED-TTL:P3D
REFRESH-INTERVAL:P3D
CALSCALE:GREGORIAN
BEGIN:VEVENT
DTSTART:20240207T230000Z
DTEND:20240208T020000Z
X-MICROSOFT-CDO-ALLDAYEVENT:FALSE
SUMMARY:2024 Axe Throwing
DESCRIPTION:Enjoy axe throwing\, craft beer\, bags\, shuffleboard\, yard games and more! \n\n\n\nBe sure to select your timeslot when registering!\n\n	First Round of Axe Throwing:  5:00-6:30pm SOLD OUT!\n	Second Round of Axe Throwing:  6:30-8:00pm\n\n\n\nRegistration includes axe throwing\, other games\, 2 drinks\, appetizers & Salvatore's Pizza!
X-ALT-DESC;FMTTYPE=text/html:Enjoy axe throwing\, craft beer\, bags\, shuffleboard\, yard games and more!&nbsp\;<br />\n<br />\n<em>Be sure to select your timeslot when registering!</em>\n<ul>\n	<li><s>First Round of Axe Throwing:&nbsp\; 5:00-6:30pm</s>&nbsp\;SOLD OUT!</li>\n	<li>Second Round of Axe Throwing:&nbsp\; 6:30-8:00pm</li>\n</ul>\n<br />\nRegistration includes axe throwing\, other games\, 2 drinks\, appetizers &amp\; Salvatore&#39\;s Pizza!
LOCATION:Madison Axe Throwing 2427 S. Stoughton Road\, Madison
UID:e.9187.576
SEQUENCE:3
DTSTAMP:20260426T033218Z
URL:http://maba.memberzone.com/events/details/2024-axe-throwing-576
END:VEVENT

END:VCALENDAR
